BEGIN:VCALENDAR
VERSION:2.0
PRODID:-//Ortsgemeinde Bornheim/Pfalz - ECPv6.15.18//NONSGML v1.0//EN
CALSCALE:GREGORIAN
METHOD:PUBLISH
X-ORIGINAL-URL:https://gemeinde-bornheim.de
X-WR-CALDESC:Veranstaltungen für Ortsgemeinde Bornheim/Pfalz
REFRESH-INTERVAL;VALUE=DURATION:PT1H
X-Robots-Tag:noindex
X-PUBLISHED-TTL:PT1H
BEGIN:VTIMEZONE
TZID:Europe/Berlin
BEGIN:DAYLIGHT
TZOFFSETFROM:+0100
TZOFFSETTO:+0200
TZNAME:CEST
DTSTART:20250330T010000
END:DAYLIGHT
BEGIN:STANDARD
TZOFFSETFROM:+0200
TZOFFSETTO:+0100
TZNAME:CET
DTSTART:20251026T010000
END:STANDARD
BEGIN:DAYLIGHT
TZOFFSETFROM:+0100
TZOFFSETTO:+0200
TZNAME:CEST
DTSTART:20260329T010000
END:DAYLIGHT
BEGIN:STANDARD
TZOFFSETFROM:+0200
TZOFFSETTO:+0100
TZNAME:CET
DTSTART:20261025T010000
END:STANDARD
BEGIN:DAYLIGHT
TZOFFSETFROM:+0100
TZOFFSETTO:+0200
TZNAME:CEST
DTSTART:20270328T010000
END:DAYLIGHT
BEGIN:STANDARD
TZOFFSETFROM:+0200
TZOFFSETTO:+0100
TZNAME:CET
DTSTART:20271031T010000
END:STANDARD
END:VTIMEZONE
BEGIN:VEVENT
DTSTART;TZID=Europe/Berlin:20260424T173000
DTEND;TZID=Europe/Berlin:20260424T233000
DTSTAMP:20260420T144006
CREATED:20260413T193315Z
LAST-MODIFIED:20260413T193433Z
UID:10000840-1777051800-1777073400@gemeinde-bornheim.de
SUMMARY:Genussabend im Gasthaus Lehrer Lämpel
DESCRIPTION:Liebe Gäste\,\nam Freitag\, den 24.04.2026 möchten wir unsere Eröffnung gebührend mit Ihnen feiern.\nEin besonderer Abend für Genießer\n120 € pro Person – inkl. Weinbegleitung & musikalischer Begleitung\nGenießen Sie ein liebevoll komponiertes Menü\, begleitet von passenden Weinen und stimmungsvoller Musik – ein Abend zum Wohlfühlen und Genießen.\nBeginn: 17:30 Uhr\nSektempfang & Fingerfood\nSpargelsalat\nPfälzer Spargel | Pinienkerne | Urwaldpfeffer | pochiertes Ei\nBärlauchsuppe\nBlack Tiger Garnele | Limette | Senfkörner | Gartenkresse\nSorbet\nZitrone | Tomate | Basilikum\nDuett vom Rind\nRumpsteak | Backe | Pastinakenpüree | grüner Spargel\nkonfierte Tomate | weiße Pfeffersoße\nPanna Cotta\nErdbeer-Ragout | Crumble | Tapioka\nTischreservierung\nAufgrund begrenzter Plätze bitten wir Sie\, Ihre Tischreservierung rechtzeitig vorzunehmen.\n06348 6106844 \nIhr Gastgeber: John \n 
URL:https://gemeinde-bornheim.de/veranstaltung/genussabend-im-gasthaus-lehrer-laempel/
LOCATION:Gasthaus Lehrer Lämpel
END:VEVENT
END:VCALENDAR