BEGIN:VCALENDAR
VERSION:2.0
PRODID:-//Ortsgemeinde Bornheim/Pfalz - ECPv6.15.18//NONSGML v1.0//EN
CALSCALE:GREGORIAN
METHOD:PUBLISH
X-WR-CALNAME:Ortsgemeinde Bornheim/Pfalz
X-ORIGINAL-URL:https://gemeinde-bornheim.de
X-WR-CALDESC:Veranstaltungen für Ortsgemeinde Bornheim/Pfalz
REFRESH-INTERVAL;VALUE=DURATION:PT1H
X-Robots-Tag:noindex
X-PUBLISHED-TTL:PT1H
BEGIN:VTIMEZONE
TZID:Europe/Berlin
BEGIN:DAYLIGHT
TZOFFSETFROM:+0100
TZOFFSETTO:+0200
TZNAME:CEST
DTSTART:20240331T010000
END:DAYLIGHT
BEGIN:STANDARD
TZOFFSETFROM:+0200
TZOFFSETTO:+0100
TZNAME:CET
DTSTART:20241027T010000
END:STANDARD
BEGIN:DAYLIGHT
TZOFFSETFROM:+0100
TZOFFSETTO:+0200
TZNAME:CEST
DTSTART:20250330T010000
END:DAYLIGHT
BEGIN:STANDARD
TZOFFSETFROM:+0200
TZOFFSETTO:+0100
TZNAME:CET
DTSTART:20251026T010000
END:STANDARD
BEGIN:DAYLIGHT
TZOFFSETFROM:+0100
TZOFFSETTO:+0200
TZNAME:CEST
DTSTART:20260329T010000
END:DAYLIGHT
BEGIN:STANDARD
TZOFFSETFROM:+0200
TZOFFSETTO:+0100
TZNAME:CET
DTSTART:20261025T010000
END:STANDARD
END:VTIMEZONE
BEGIN:VEVENT
DTSTART;TZID=Europe/Berlin:20250405T200000
DTEND;TZID=Europe/Berlin:20250405T230000
DTSTAMP:20260419T200744
CREATED:20241121T191227Z
LAST-MODIFIED:20241121T191227Z
UID:10000532-1743883200-1743894000@gemeinde-bornheim.de
SUMMARY:4. Theateraufführung
DESCRIPTION:
URL:https://gemeinde-bornheim.de/veranstaltung/4-theaterauffuehrung/
LOCATION:Dorfgemeinschaftshaus\, In den Weppen 1\, Bornheim\, 76879\, Deutschland
CATEGORIES:Veranstaltung
END:VEVENT
BEGIN:VEVENT
DTSTART;TZID=Europe/Berlin:20250404T200000
DTEND;TZID=Europe/Berlin:20250404T230000
DTSTAMP:20260419T200744
CREATED:20241121T191127Z
LAST-MODIFIED:20241121T191127Z
UID:10000531-1743796800-1743807600@gemeinde-bornheim.de
SUMMARY:3. Theateraufführung
DESCRIPTION:
URL:https://gemeinde-bornheim.de/veranstaltung/3-theaterauffuehrung/
LOCATION:Dorfgemeinschaftshaus\, In den Weppen 1\, Bornheim\, 76879\, Deutschland
CATEGORIES:Veranstaltung
END:VEVENT
BEGIN:VEVENT
DTSTART;TZID=Europe/Berlin:20250330T190000
DTEND;TZID=Europe/Berlin:20250330T230000
DTSTAMP:20260419T200744
CREATED:20241030T165406Z
LAST-MODIFIED:20241126T234940Z
UID:10000511-1743361200-1743375600@gemeinde-bornheim.de
SUMMARY:2. Theateraufführung Theaterstörche
DESCRIPTION:
URL:https://gemeinde-bornheim.de/veranstaltung/3-theaterauffuehrung-theaterstoerche-3/
LOCATION:Dorfgemeinschaftshaus\, In den Weppen 1\, Bornheim\, 76879\, Deutschland
CATEGORIES:Veranstaltung
END:VEVENT
BEGIN:VEVENT
DTSTART;TZID=Europe/Berlin:20250329T200000
DTEND;TZID=Europe/Berlin:20250329T230000
DTSTAMP:20260419T200744
CREATED:20241030T165512Z
LAST-MODIFIED:20241126T234504Z
UID:10000512-1743278400-1743289200@gemeinde-bornheim.de
SUMMARY:1. Theateraufführung Theaterstörche
DESCRIPTION:
URL:https://gemeinde-bornheim.de/veranstaltung/4-theaterauffuehrung-theaterstoerche-3/
LOCATION:Dorfgemeinschaftshaus\, In den Weppen 1\, Bornheim\, 76879\, Deutschland
CATEGORIES:Veranstaltung
END:VEVENT
BEGIN:VEVENT
DTSTART;TZID=Europe/Berlin:20250325T190000
DTEND;TZID=Europe/Berlin:20250325T220000
DTSTAMP:20260419T200744
CREATED:20250121T214535Z
LAST-MODIFIED:20250121T214535Z
UID:10000571-1742929200-1742940000@gemeinde-bornheim.de
SUMMARY:Landfrauen - Loop Kränze binden
DESCRIPTION:
URL:https://gemeinde-bornheim.de/veranstaltung/landfrauen-loop-kraenze-binden/
LOCATION:Dorfgemeinschaftshaus\, In den Weppen 1\, Bornheim\, 76879\, Deutschland
CATEGORIES:Veranstaltung
ORGANIZER;CN="LandFrauenVerein e.V.":MAILTO:LandfrauenBornheim@web.de
END:VEVENT
BEGIN:VEVENT
DTSTART;TZID=Europe/Berlin:20250323T110000
DTEND;TZID=Europe/Berlin:20250323T120000
DTSTAMP:20260419T200744
CREATED:20241022T214901Z
LAST-MODIFIED:20241022T214901Z
UID:10000490-1742727600-1742731200@gemeinde-bornheim.de
SUMMARY:Kartenvorverkauf Theaterstörche
DESCRIPTION:
URL:https://gemeinde-bornheim.de/veranstaltung/kartenvorverkauf-theaterstoerche-3/
LOCATION:Dorfgemeinschaftshaus\, In den Weppen 1\, Bornheim\, 76879\, Deutschland
CATEGORIES:Veranstaltung
END:VEVENT
BEGIN:VEVENT
DTSTART;TZID=Europe/Berlin:20250318T190000
DTEND;TZID=Europe/Berlin:20250318T220000
DTSTAMP:20260419T200744
CREATED:20250121T214411Z
LAST-MODIFIED:20250121T214411Z
UID:10000570-1742324400-1742335200@gemeinde-bornheim.de
SUMMARY:Landfrauen - Backen mit Julia von der Kügler Mühle
DESCRIPTION:
URL:https://gemeinde-bornheim.de/veranstaltung/landfrauen-backen-mit-julia-von-der-kuegler-muehle-3/
LOCATION:Dorfgemeinschaftshaus\, In den Weppen 1\, Bornheim\, 76879\, Deutschland
CATEGORIES:Veranstaltung
ORGANIZER;CN="LandFrauenVerein e.V.":MAILTO:LandfrauenBornheim@web.de
END:VEVENT
BEGIN:VEVENT
DTSTART;TZID=Europe/Berlin:20250316T110000
DTEND;TZID=Europe/Berlin:20250316T120000
DTSTAMP:20260419T200744
CREATED:20241022T214758Z
LAST-MODIFIED:20241022T214758Z
UID:10000489-1742122800-1742126400@gemeinde-bornheim.de
SUMMARY:Kartenvorverkauf Theaterstörche
DESCRIPTION:
URL:https://gemeinde-bornheim.de/veranstaltung/kartenvorverkauf-theaterstoerche-2/
LOCATION:Dorfgemeinschaftshaus\, In den Weppen 1\, Bornheim\, 76879\, Deutschland
CATEGORIES:Veranstaltung
END:VEVENT
BEGIN:VEVENT
DTSTART;TZID=Europe/Berlin:20250314T150000
DTEND;TZID=Europe/Berlin:20250314T180000
DTSTAMP:20260419T200744
CREATED:20250307T235451Z
LAST-MODIFIED:20250307T235451Z
UID:10000652-1741964400-1741975200@gemeinde-bornheim.de
SUMMARY:Bingo-Nachmittag mit Peter Pepper
DESCRIPTION:Bingo-Profi kommt nach Bornheim \nAm Freitag\, 14. März 2025 ist es soweit: Der bekannte Bingo-Profi Peter Pepper kommt nach Bornheim! Von 15.00 bis 18.00 Uhr lädt er alle Spielfreudigen ins Dorfgemeinschaftshaus ein\, um gemeinsam einen unterhaltsamen Nachmittag zu erleben. Freuen Sie sich auf spannende Bingo-Runden\, tolle Gewinne und jede Menge Spaß. Peter Pepper sorgt mit seiner charmanten Moderation und langjährigen Erfahrung für beste Unterhaltung. Egal ob Bingo-Neuling oder erfahrener Spieler – hier kommt jeder auf seine Kosten. Die Bevölkerung ist herzlich eingeladen\, vorbeizukommen\, mitzuspielen und die besondere Atmosphäre zu genießen. Für das leibliche Wohl ist bestens gesorgt. \n 
URL:https://gemeinde-bornheim.de/veranstaltung/bingo-nachmittag-mit-peter-pepper/
LOCATION:Dorfgemeinschaftshaus\, In den Weppen 1\, Bornheim\, 76879\, Deutschland
CATEGORIES:Veranstaltung
ORGANIZER;CN="Ortsgemeinde Bornheim":MAILTO:rathaus@gemeinde-bornheim.de
END:VEVENT
BEGIN:VEVENT
DTSTART;TZID=Europe/Berlin:20250311T193000
DTEND;TZID=Europe/Berlin:20250311T210000
DTSTAMP:20260419T200744
CREATED:20250117T173413Z
LAST-MODIFIED:20250119T213231Z
UID:10000561-1741721400-1741726800@gemeinde-bornheim.de
SUMMARY:LandFrauen - Pilates
DESCRIPTION:
URL:https://gemeinde-bornheim.de/veranstaltung/landfrauen/
LOCATION:Dorfgemeinschaftshaus\, In den Weppen 1\, Bornheim\, 76879\, Deutschland
CATEGORIES:Veranstaltung
ORGANIZER;CN="LandFrauenVerein e.V.":MAILTO:LandfrauenBornheim@web.de
END:VEVENT
BEGIN:VEVENT
DTSTART;TZID=Europe/Berlin:20250309T110000
DTEND;TZID=Europe/Berlin:20250309T120000
DTSTAMP:20260419T200744
CREATED:20241022T214631Z
LAST-MODIFIED:20241106T221513Z
UID:10000488-1741518000-1741521600@gemeinde-bornheim.de
SUMMARY:Kartenvorverkauf Theaterstörche
DESCRIPTION:
URL:https://gemeinde-bornheim.de/veranstaltung/kartenvorverkauf-theaterstoerche/
LOCATION:Dorfgemeinschaftshaus\, In den Weppen 1\, Bornheim\, 76879\, Deutschland
CATEGORIES:Veranstaltung
END:VEVENT
BEGIN:VEVENT
DTSTART;VALUE=DATE:20250308
DTEND;VALUE=DATE:20250309
DTSTAMP:20260419T200744
CREATED:20240327T080936Z
LAST-MODIFIED:20241030T164900Z
UID:10000422-1741392000-1741478399@gemeinde-bornheim.de
SUMMARY:Schlachtfest Freundeskreis Die Wachthäusler e.V.
DESCRIPTION:
URL:https://gemeinde-bornheim.de/veranstaltung/schlachtfest-freundeskreis-die-wachthaeusler-e-v-2/
LOCATION:Dorfgemeinschaftshaus\, In den Weppen 1\, Bornheim\, 76879\, Deutschland
END:VEVENT
BEGIN:VEVENT
DTSTART;TZID=Europe/Berlin:20250307T180000
DTEND;TZID=Europe/Berlin:20250307T210000
DTSTAMP:20260419T200744
CREATED:20240221T233542Z
LAST-MODIFIED:20240221T233542Z
UID:10000409-1741370400-1741381200@gemeinde-bornheim.de
SUMMARY:Weltgebetstag der Frauen
DESCRIPTION:
URL:https://gemeinde-bornheim.de/veranstaltung/weltgebetstag-der-frauen-3/
LOCATION:Dorfgemeinschaftshaus\, In den Weppen 1\, Bornheim\, 76879\, Deutschland
CATEGORIES:Veranstaltung
ORGANIZER;CN="Protestantische Kirchengemeinde":MAILTO:pfarramt.essingen@evkirchepfalz.de
END:VEVENT
BEGIN:VEVENT
DTSTART;TZID=Europe/Berlin:20250305T180000
DTEND;TZID=Europe/Berlin:20250305T210000
DTSTAMP:20260419T200744
CREATED:20241022T214327Z
LAST-MODIFIED:20241022T214327Z
UID:10000487-1741197600-1741208400@gemeinde-bornheim.de
SUMMARY:Aschermittwoch-Heringsessen CDU
DESCRIPTION:
URL:https://gemeinde-bornheim.de/veranstaltung/aschermittwoch-heringsessen-cdu-2/
LOCATION:Dorfgemeinschaftshaus\, In den Weppen 1\, Bornheim\, 76879\, Deutschland
CATEGORIES:Veranstaltung
END:VEVENT
BEGIN:VEVENT
DTSTART;VALUE=DATE:20250301
DTEND;VALUE=DATE:20250302
DTSTAMP:20260419T200744
CREATED:20241122T171240Z
LAST-MODIFIED:20241122T171240Z
UID:10000534-1740787200-1740873599@gemeinde-bornheim.de
SUMMARY:Aufbau Theaterkulissen
DESCRIPTION:
URL:https://gemeinde-bornheim.de/veranstaltung/aufbau-theaterkulissen/
LOCATION:Dorfgemeinschaftshaus\, In den Weppen 1\, Bornheim\, 76879\, Deutschland
CATEGORIES:Veranstaltung
END:VEVENT
BEGIN:VEVENT
DTSTART;TZID=Europe/Berlin:20250228T190000
DTEND;TZID=Europe/Berlin:20250228T220000
DTSTAMP:20260419T200744
CREATED:20240221T233436Z
LAST-MODIFIED:20240221T233436Z
UID:10000408-1740769200-1740780000@gemeinde-bornheim.de
SUMMARY:Kinozeit Diakonieverein
DESCRIPTION:
URL:https://gemeinde-bornheim.de/veranstaltung/kinozeit-diakonieverein-5/
LOCATION:Dorfgemeinschaftshaus\, In den Weppen 1\, Bornheim\, 76879\, Deutschland
CATEGORIES:Veranstaltung
ORGANIZER;CN="Diakonieverein Bornheim e.V.":MAILTO:WZeidler@gmx.de
END:VEVENT
BEGIN:VEVENT
DTSTART;VALUE=DATE:20250223
DTEND;VALUE=DATE:20250224
DTSTAMP:20260419T200744
CREATED:20240327T080503Z
LAST-MODIFIED:20240327T080503Z
UID:10000420-1740268800-1740355199@gemeinde-bornheim.de
SUMMARY:Kinderfasching
DESCRIPTION:
URL:https://gemeinde-bornheim.de/veranstaltung/kinderfasching-3/
LOCATION:Dorfgemeinschaftshaus\, In den Weppen 1\, Bornheim\, 76879\, Deutschland
END:VEVENT
BEGIN:VEVENT
DTSTART;VALUE=DATE:20250221
DTEND;VALUE=DATE:20250222
DTSTAMP:20260419T200744
CREATED:20240327T080400Z
LAST-MODIFIED:20240327T080400Z
UID:10000419-1740096000-1740182399@gemeinde-bornheim.de
SUMMARY:Bornemer Fasenacht
DESCRIPTION:
URL:https://gemeinde-bornheim.de/veranstaltung/bornemer-fasenacht-3/
LOCATION:Dorfgemeinschaftshaus\, In den Weppen 1\, Bornheim\, 76879\, Deutschland
END:VEVENT
BEGIN:VEVENT
DTSTART;VALUE=DATE:20250215
DTEND;VALUE=DATE:20250216
DTSTAMP:20260419T200744
CREATED:20240327T080249Z
LAST-MODIFIED:20240327T080249Z
UID:10000418-1739577600-1739663999@gemeinde-bornheim.de
SUMMARY:Deko DGH für Bornemer Fasenacht
DESCRIPTION:
URL:https://gemeinde-bornheim.de/veranstaltung/deko-dgh-fuer-bornemer-fasenacht/
LOCATION:Dorfgemeinschaftshaus\, In den Weppen 1\, Bornheim\, 76879\, Deutschland
END:VEVENT
BEGIN:VEVENT
DTSTART;TZID=Europe/Berlin:20250214T190000
DTEND;TZID=Europe/Berlin:20250214T233000
DTSTAMP:20260419T200744
CREATED:20240910T222033Z
LAST-MODIFIED:20240910T222055Z
UID:10000476-1739559600-1739575800@gemeinde-bornheim.de
SUMMARY:Valentinstagsparty
DESCRIPTION:
URL:https://gemeinde-bornheim.de/veranstaltung/valentinstagsparty/
LOCATION:Dorfgemeinschaftshaus\, In den Weppen 1\, Bornheim\, 76879\, Deutschland
CATEGORIES:Veranstaltung
ORGANIZER;CN="Seniorenbeauftragte":MAILTO:erika_koe@web.de
END:VEVENT
BEGIN:VEVENT
DTSTART;TZID=Europe/Berlin:20250211T190000
DTEND;TZID=Europe/Berlin:20250211T220000
DTSTAMP:20260419T200744
CREATED:20250121T214226Z
LAST-MODIFIED:20250121T214226Z
UID:10000569-1739300400-1739311200@gemeinde-bornheim.de
SUMMARY:Landfrauen - Programmvorstellung mit Feuerzangenbowle
DESCRIPTION:
URL:https://gemeinde-bornheim.de/veranstaltung/landfrauen-programmvorstellung-mit-feuerzangenbowle/
LOCATION:Dorfgemeinschaftshaus\, In den Weppen 1\, Bornheim\, 76879\, Deutschland
CATEGORIES:Veranstaltung
ORGANIZER;CN="LandFrauenVerein e.V.":MAILTO:LandfrauenBornheim@web.de
END:VEVENT
BEGIN:VEVENT
DTSTART;TZID=Europe/Berlin:20250209T110000
DTEND;TZID=Europe/Berlin:20250209T140000
DTSTAMP:20260419T200744
CREATED:20250114T173454Z
LAST-MODIFIED:20250114T173454Z
UID:10000553-1739098800-1739109600@gemeinde-bornheim.de
SUMMARY:Kleiderbasar Kindergarten
DESCRIPTION:
URL:https://gemeinde-bornheim.de/veranstaltung/kleiderbasar-kindergarten-3/
LOCATION:Dorfgemeinschaftshaus\, In den Weppen 1\, Bornheim\, 76879\, Deutschland
CATEGORIES:Veranstaltung
END:VEVENT
BEGIN:VEVENT
DTSTART;TZID=Europe/Berlin:20250208T090000
DTEND;TZID=Europe/Berlin:20250208T120000
DTSTAMP:20260419T200744
CREATED:20240221T233139Z
LAST-MODIFIED:20240221T233139Z
UID:10000406-1739005200-1739016000@gemeinde-bornheim.de
SUMMARY:Frühstück Diakonieverein
DESCRIPTION:
URL:https://gemeinde-bornheim.de/veranstaltung/fruehstueck-diakonieverein-6/
LOCATION:Dorfgemeinschaftshaus\, In den Weppen 1\, Bornheim\, 76879\, Deutschland
CATEGORIES:Veranstaltung
ORGANIZER;CN="Diakonieverein Bornheim e.V.":MAILTO:WZeidler@gmx.de
END:VEVENT
BEGIN:VEVENT
DTSTART;VALUE=DATE:20250201
DTEND;VALUE=DATE:20250202
DTSTAMP:20260419T200744
CREATED:20240327T123346Z
LAST-MODIFIED:20240327T123346Z
UID:10000425-1738368000-1738454399@gemeinde-bornheim.de
SUMMARY:Privatveranstaltung
DESCRIPTION:
URL:https://gemeinde-bornheim.de/veranstaltung/privatveranstaltung-24/
LOCATION:Dorfgemeinschaftshaus\, In den Weppen 1\, Bornheim\, 76879\, Deutschland
CATEGORIES:Veranstaltung
END:VEVENT
BEGIN:VEVENT
DTSTART;VALUE=DATE:20250131
DTEND;VALUE=DATE:20250201
DTSTAMP:20260419T200744
CREATED:20240405T154722Z
LAST-MODIFIED:20240419T140510Z
UID:10000437-1738281600-1738367999@gemeinde-bornheim.de
SUMMARY:Privatveranstaltung
DESCRIPTION:
URL:https://gemeinde-bornheim.de/veranstaltung/jahresabschlussfeier-sozialstation/
LOCATION:Dorfgemeinschaftshaus\, In den Weppen 1\, Bornheim\, 76879\, Deutschland
CATEGORIES:Veranstaltung
END:VEVENT
BEGIN:VEVENT
DTSTART;TZID=Europe/Berlin:20250124T190000
DTEND;TZID=Europe/Berlin:20250124T220000
DTSTAMP:20260419T200744
CREATED:20240221T233303Z
LAST-MODIFIED:20240221T233303Z
UID:10000407-1737745200-1737756000@gemeinde-bornheim.de
SUMMARY:Kinozeit Diakonieverein
DESCRIPTION:
URL:https://gemeinde-bornheim.de/veranstaltung/kinozeit-diakonieverein-4/
LOCATION:Dorfgemeinschaftshaus\, In den Weppen 1\, Bornheim\, 76879\, Deutschland
CATEGORIES:Veranstaltung
ORGANIZER;CN="Diakonieverein Bornheim e.V.":MAILTO:WZeidler@gmx.de
END:VEVENT
BEGIN:VEVENT
DTSTART;TZID=Europe/Berlin:20250118T080000
DTEND;TZID=Europe/Berlin:20250118T233000
DTSTAMP:20260419T200744
CREATED:20240531T141050Z
LAST-MODIFIED:20240531T141050Z
UID:10000455-1737187200-1737243000@gemeinde-bornheim.de
SUMMARY:Privatveranstaltung
DESCRIPTION:
URL:https://gemeinde-bornheim.de/veranstaltung/privatveranstaltung-28/
LOCATION:Dorfgemeinschaftshaus\, In den Weppen 1\, Bornheim\, 76879\, Deutschland
CATEGORIES:Veranstaltung
END:VEVENT
BEGIN:VEVENT
DTSTART;TZID=Europe/Berlin:20250111T090000
DTEND;TZID=Europe/Berlin:20250111T120000
DTSTAMP:20260419T200744
CREATED:20240221T233032Z
LAST-MODIFIED:20240221T233042Z
UID:10000405-1736586000-1736596800@gemeinde-bornheim.de
SUMMARY:Frühstück Diakonieverein
DESCRIPTION:
URL:https://gemeinde-bornheim.de/veranstaltung/fruehstueck-diakonieverein-5/
LOCATION:Dorfgemeinschaftshaus\, In den Weppen 1\, Bornheim\, 76879\, Deutschland
CATEGORIES:Veranstaltung
ORGANIZER;CN="Diakonieverein Bornheim e.V.":MAILTO:WZeidler@gmx.de
END:VEVENT
BEGIN:VEVENT
DTSTART;TZID=Europe/Berlin:20250105T110000
DTEND;TZID=Europe/Berlin:20250105T130000
DTSTAMP:20260419T200744
CREATED:20240327T080751Z
LAST-MODIFIED:20240327T080751Z
UID:10000421-1736074800-1736082000@gemeinde-bornheim.de
SUMMARY:Neujahrsempfang der Gemeinde
DESCRIPTION:
URL:https://gemeinde-bornheim.de/veranstaltung/neujahrsempfang-der-gemeinde-2/
LOCATION:Dorfgemeinschaftshaus\, In den Weppen 1\, Bornheim\, 76879\, Deutschland
ORGANIZER;CN="Ortsgemeinde Bornheim":MAILTO:rathaus@gemeinde-bornheim.de
END:VEVENT
BEGIN:VEVENT
DTSTART;TZID=Europe/Berlin:20250104T193000
DTEND;TZID=Europe/Berlin:20250104T230000
DTSTAMP:20260419T200744
CREATED:20240909T201713Z
LAST-MODIFIED:20241217T225623Z
UID:10000473-1736019000-1736031600@gemeinde-bornheim.de
SUMMARY:Neujahrskonzert mit dem Johann-Strauß-Orchester Kurpfalz
DESCRIPTION:Bornheimer Neujahrkonzert 2025\nDas 10. Bornheimer Neujahrskonzert am Samstag\, 4. Januar 2025 steht unter dem Motto \n„Puszta – Pörkölt – Paprika“ \nDie Besucher dürfen sich wieder auf ein buntes Feuerwerk bekannter Melodien freuen. Kontrabassist Frank Ringleb – der Orchestergründer – wird in seiner gewohnt charmant-witzigen Art durch das Programm führen. Prof. Koloseus am E-Piano wird das Publikum ebenso begeistern\, wie zwei excellente Gesangssolisten. \nDa die früheren Neujahrskonzerte schnell ausverkauft waren\, empfiehlt sich eine rechtzeitige Reservierung der Eintrittskarten. \nBereits jetzt können die Karten zum Preis von 28\,– € bei Günter Dörsam\, Tel. 06348/ 9836660 oder unter der e-mail bornheimer-konzerte@t-online.de bestellt werden. \n  \n 
URL:https://gemeinde-bornheim.de/veranstaltung/neujahrskonzert-mit-dem-johann-strauss-orchester-kurpfalz/
LOCATION:Dorfgemeinschaftshaus\, In den Weppen 1\, Bornheim\, 76879\, Deutschland
CATEGORIES:Veranstaltung
ORGANIZER;CN="Ortsgemeinde Bornheim":MAILTO:rathaus@gemeinde-bornheim.de
END:VEVENT
END:VCALENDAR