BEGIN:VCALENDAR
VERSION:2.0
PRODID:-//Ortsgemeinde Bornheim/Pfalz - ECPv6.15.18//NONSGML v1.0//EN
CALSCALE:GREGORIAN
METHOD:PUBLISH
X-ORIGINAL-URL:https://gemeinde-bornheim.de
X-WR-CALDESC:Veranstaltungen für Ortsgemeinde Bornheim/Pfalz
REFRESH-INTERVAL;VALUE=DURATION:PT1H
X-Robots-Tag:noindex
X-PUBLISHED-TTL:PT1H
BEGIN:VTIMEZONE
TZID:Europe/Berlin
BEGIN:DAYLIGHT
TZOFFSETFROM:+0100
TZOFFSETTO:+0200
TZNAME:CEST
DTSTART:20240331T010000
END:DAYLIGHT
BEGIN:STANDARD
TZOFFSETFROM:+0200
TZOFFSETTO:+0100
TZNAME:CET
DTSTART:20241027T010000
END:STANDARD
BEGIN:DAYLIGHT
TZOFFSETFROM:+0100
TZOFFSETTO:+0200
TZNAME:CEST
DTSTART:20250330T010000
END:DAYLIGHT
BEGIN:STANDARD
TZOFFSETFROM:+0200
TZOFFSETTO:+0100
TZNAME:CET
DTSTART:20251026T010000
END:STANDARD
BEGIN:DAYLIGHT
TZOFFSETFROM:+0100
TZOFFSETTO:+0200
TZNAME:CEST
DTSTART:20260329T010000
END:DAYLIGHT
BEGIN:STANDARD
TZOFFSETFROM:+0200
TZOFFSETTO:+0100
TZNAME:CET
DTSTART:20261025T010000
END:STANDARD
END:VTIMEZONE
BEGIN:VEVENT
DTSTART;TZID=Europe/Berlin:20250925T160000
DTEND;TZID=Europe/Berlin:20250925T180000
DTSTAMP:20260419T145350
CREATED:20250117T173305Z
LAST-MODIFIED:20250117T173305Z
UID:10000560-1758816000-1758823200@gemeinde-bornheim.de
SUMMARY:Selbstverteidigungskurs KIB
DESCRIPTION:
URL:https://gemeinde-bornheim.de/veranstaltung/selbstverteidigungskurs-kib-6/
LOCATION:Dorfgemeinschaftshaus\, In den Weppen 1\, Bornheim\, 76879\, Deutschland
CATEGORIES:Veranstaltung
END:VEVENT
BEGIN:VEVENT
DTSTART;TZID=Europe/Berlin:20250923T190000
DTEND;TZID=Europe/Berlin:20250923T220000
DTSTAMP:20260419T145350
CREATED:20250121T215525Z
LAST-MODIFIED:20250121T215525Z
UID:10000576-1758654000-1758664800@gemeinde-bornheim.de
SUMMARY:Landfrauen - Vergessene Schätze neu entdeckt - die Zwiebel
DESCRIPTION:
URL:https://gemeinde-bornheim.de/veranstaltung/landfrauen-vergessene-schaetze-neu-entdeckt-die-zwiebel/
LOCATION:Dorfgemeinschaftshaus\, In den Weppen 1\, Bornheim\, 76879\, Deutschland
CATEGORIES:Veranstaltung
ORGANIZER;CN="LandFrauenVerein e.V.":MAILTO:LandfrauenBornheim@web.de
END:VEVENT
BEGIN:VEVENT
DTSTART;TZID=Europe/Berlin:20250920T080000
DTEND;TZID=Europe/Berlin:20250920T233000
DTSTAMP:20260419T145350
CREATED:20250505T142035Z
LAST-MODIFIED:20250505T142035Z
UID:10000687-1758355200-1758411000@gemeinde-bornheim.de
SUMMARY:Privatveranstaltung
DESCRIPTION:
URL:https://gemeinde-bornheim.de/veranstaltung/privatveranstaltung-51/
LOCATION:Dorfgemeinschaftshaus\, In den Weppen 1\, Bornheim\, 76879\, Deutschland
CATEGORIES:Veranstaltung
END:VEVENT
BEGIN:VEVENT
DTSTART;TZID=Europe/Berlin:20250914T120000
DTEND;TZID=Europe/Berlin:20250914T160000
DTSTAMP:20260419T145350
CREATED:20250424T123133Z
LAST-MODIFIED:20250424T123133Z
UID:10000682-1757851200-1757865600@gemeinde-bornheim.de
SUMMARY:Kleider-/Spielzeugbasar Kindergarten
DESCRIPTION:
URL:https://gemeinde-bornheim.de/veranstaltung/kleider-spielzeugbasar-kindergarten/
LOCATION:Dorfgemeinschaftshaus\, In den Weppen 1\, Bornheim\, 76879\, Deutschland
CATEGORIES:Veranstaltung
END:VEVENT
BEGIN:VEVENT
DTSTART;TZID=Europe/Berlin:20250913T090000
DTEND;TZID=Europe/Berlin:20250913T130000
DTSTAMP:20260419T145350
CREATED:20241206T224759Z
LAST-MODIFIED:20250328T162333Z
UID:10000537-1757754000-1757768400@gemeinde-bornheim.de
SUMMARY:Diakonieverein - Frühstück
DESCRIPTION:
URL:https://gemeinde-bornheim.de/veranstaltung/diakonieverein-fruehstueck/
LOCATION:Dorfgemeinschaftshaus\, In den Weppen 1\, Bornheim\, 76879\, Deutschland
CATEGORIES:Veranstaltung
ORGANIZER;CN="Diakonieverein Bornheim e.V.":MAILTO:WZeidler@gmx.de
END:VEVENT
BEGIN:VEVENT
DTSTART;VALUE=DATE:20250910
DTEND;VALUE=DATE:20250911
DTSTAMP:20260419T145350
CREATED:20241022T215929Z
LAST-MODIFIED:20241022T215929Z
UID:10000496-1757462400-1757548799@gemeinde-bornheim.de
SUMMARY:Seniorenfahrt
DESCRIPTION:
URL:https://gemeinde-bornheim.de/veranstaltung/seniorenfahrt/
LOCATION:Dorfgemeinschaftshaus\, In den Weppen 1\, Bornheim\, 76879\, Deutschland
CATEGORIES:Veranstaltung
ORGANIZER;CN="Ortsgemeinde Bornheim":MAILTO:rathaus@gemeinde-bornheim.de
END:VEVENT
BEGIN:VEVENT
DTSTART;VALUE=DATE:20250908
DTEND;VALUE=DATE:20250909
DTSTAMP:20260419T145350
CREATED:20250108T160516Z
LAST-MODIFIED:20250108T160516Z
UID:10000547-1757289600-1757375999@gemeinde-bornheim.de
SUMMARY:Bornemer Kerwe
DESCRIPTION:
URL:https://gemeinde-bornheim.de/veranstaltung/bornemer-kerwe-4/
LOCATION:Dorfgemeinschaftshaus\, In den Weppen 1\, Bornheim\, 76879\, Deutschland
CATEGORIES:Veranstaltung
ORGANIZER;CN="Ortsgemeinde Bornheim":MAILTO:rathaus@gemeinde-bornheim.de
END:VEVENT
BEGIN:VEVENT
DTSTART;VALUE=DATE:20250907
DTEND;VALUE=DATE:20250908
DTSTAMP:20260419T145350
CREATED:20241022T215739Z
LAST-MODIFIED:20241022T215739Z
UID:10000495-1757203200-1757289599@gemeinde-bornheim.de
SUMMARY:Bornemer Kerwe
DESCRIPTION:Familientag
URL:https://gemeinde-bornheim.de/veranstaltung/bornemer-kerwe-3/
LOCATION:Dorfgemeinschaftshaus\, In den Weppen 1\, Bornheim\, 76879\, Deutschland
CATEGORIES:Veranstaltung
ORGANIZER;CN="Ortsgemeinde Bornheim":MAILTO:rathaus@gemeinde-bornheim.de
END:VEVENT
BEGIN:VEVENT
DTSTART;TZID=Europe/Berlin:20250906T150000
DTEND;TZID=Europe/Berlin:20250906T233000
DTSTAMP:20260419T145350
CREATED:20241022T215648Z
LAST-MODIFIED:20241022T215648Z
UID:10000494-1757170800-1757201400@gemeinde-bornheim.de
SUMMARY:Bornemer Kerwe
DESCRIPTION:
URL:https://gemeinde-bornheim.de/veranstaltung/bornemer-kerwe-2/
LOCATION:Dorfgemeinschaftshaus\, In den Weppen 1\, Bornheim\, 76879\, Deutschland
CATEGORIES:Veranstaltung
ORGANIZER;CN="Ortsgemeinde Bornheim":MAILTO:rathaus@gemeinde-bornheim.de
END:VEVENT
BEGIN:VEVENT
DTSTART;TZID=Europe/Berlin:20250905T180000
DTEND;TZID=Europe/Berlin:20250905T233000
DTSTAMP:20260419T145350
CREATED:20241022T215522Z
LAST-MODIFIED:20241022T215522Z
UID:10000493-1757095200-1757115000@gemeinde-bornheim.de
SUMMARY:Bornemer Kerwe
DESCRIPTION:
URL:https://gemeinde-bornheim.de/veranstaltung/bornemer-kerwe/
LOCATION:Dorfgemeinschaftshaus\, In den Weppen 1\, Bornheim\, 76879\, Deutschland
CATEGORIES:Veranstaltung
ORGANIZER;CN="Ortsgemeinde Bornheim":MAILTO:rathaus@gemeinde-bornheim.de
END:VEVENT
BEGIN:VEVENT
DTSTART;TZID=Europe/Berlin:20250630T183000
DTEND;TZID=Europe/Berlin:20250630T200000
DTSTAMP:20260419T145350
CREATED:20250519T213750Z
LAST-MODIFIED:20250519T213750Z
UID:10000691-1751308200-1751313600@gemeinde-bornheim.de
SUMMARY:Tanz mit Sabrina Michel-Braun
DESCRIPTION:
URL:https://gemeinde-bornheim.de/veranstaltung/tanz-mit-sabrina-michel-braun-3/
LOCATION:Dorfgemeinschaftshaus\, In den Weppen 1\, Bornheim\, 76879\, Deutschland
CATEGORIES:Veranstaltung
END:VEVENT
BEGIN:VEVENT
DTSTART;VALUE=DATE:20250628
DTEND;VALUE=DATE:20250629
DTSTAMP:20260419T145350
CREATED:20240820T190113Z
LAST-MODIFIED:20240820T190113Z
UID:10000463-1751068800-1751155199@gemeinde-bornheim.de
SUMMARY:25 Jahre Diakonieverein
DESCRIPTION:
URL:https://gemeinde-bornheim.de/veranstaltung/25-jahre-diakonieverein-2/
LOCATION:Dorfgemeinschaftshaus\, In den Weppen 1\, Bornheim\, 76879\, Deutschland
CATEGORIES:Veranstaltung
ORGANIZER;CN="Diakonieverein Bornheim e.V.":MAILTO:WZeidler@gmx.de
END:VEVENT
BEGIN:VEVENT
DTSTART;TZID=Europe/Berlin:20250626T160000
DTEND;TZID=Europe/Berlin:20250626T180000
DTSTAMP:20260419T145350
CREATED:20250117T173123Z
LAST-MODIFIED:20250117T173123Z
UID:10000558-1750953600-1750960800@gemeinde-bornheim.de
SUMMARY:Selbstverteidigungskurs KIB
DESCRIPTION:
URL:https://gemeinde-bornheim.de/veranstaltung/selbstverteidigungskurs-kib-4/
LOCATION:Dorfgemeinschaftshaus\, In den Weppen 1\, Bornheim\, 76879\, Deutschland
CATEGORIES:Veranstaltung
END:VEVENT
BEGIN:VEVENT
DTSTART;TZID=Europe/Berlin:20250623T183000
DTEND;TZID=Europe/Berlin:20250623T200000
DTSTAMP:20260419T145350
CREATED:20250519T213658Z
LAST-MODIFIED:20250519T213658Z
UID:10000690-1750703400-1750708800@gemeinde-bornheim.de
SUMMARY:Tanz mit Sabrina Michel-Braun
DESCRIPTION:
URL:https://gemeinde-bornheim.de/veranstaltung/tanz-mit-sabrina-michel-braun-2/
LOCATION:Dorfgemeinschaftshaus\, In den Weppen 1\, Bornheim\, 76879\, Deutschland
CATEGORIES:Veranstaltung
END:VEVENT
BEGIN:VEVENT
DTSTART;TZID=Europe/Berlin:20250617T190000
DTEND;TZID=Europe/Berlin:20250617T220000
DTSTAMP:20260419T145350
CREATED:20250121T215244Z
LAST-MODIFIED:20250121T215244Z
UID:10000575-1750186800-1750197600@gemeinde-bornheim.de
SUMMARY:Landfrauen - Abschlussabend
DESCRIPTION:
URL:https://gemeinde-bornheim.de/veranstaltung/landfrauen-abschlussabend/
LOCATION:Dorfgemeinschaftshaus\, In den Weppen 1\, Bornheim\, 76879\, Deutschland
CATEGORIES:Veranstaltung
ORGANIZER;CN="LandFrauenVerein e.V.":MAILTO:LandfrauenBornheim@web.de
END:VEVENT
BEGIN:VEVENT
DTSTART;TZID=Europe/Berlin:20250616T183000
DTEND;TZID=Europe/Berlin:20250616T200000
DTSTAMP:20260419T145350
CREATED:20250519T213604Z
LAST-MODIFIED:20250519T213604Z
UID:10000689-1750098600-1750104000@gemeinde-bornheim.de
SUMMARY:Tanz mit Sabrina Michel-Braun
DESCRIPTION:
URL:https://gemeinde-bornheim.de/veranstaltung/tanz-mit-sabrina-michel-braun/
LOCATION:Dorfgemeinschaftshaus\, In den Weppen 1\, Bornheim\, 76879\, Deutschland
CATEGORIES:Veranstaltung
END:VEVENT
BEGIN:VEVENT
DTSTART;VALUE=DATE:20250614
DTEND;VALUE=DATE:20250615
DTSTAMP:20260419T145350
CREATED:20240310T160315Z
LAST-MODIFIED:20240310T160315Z
UID:10000417-1749859200-1749945599@gemeinde-bornheim.de
SUMMARY:Privatveranstaltung
DESCRIPTION:
URL:https://gemeinde-bornheim.de/veranstaltung/privatveranstaltung-23/
LOCATION:Dorfgemeinschaftshaus\, In den Weppen 1\, Bornheim\, 76879\, Deutschland
CATEGORIES:Veranstaltung
END:VEVENT
BEGIN:VEVENT
DTSTART;TZID=Europe/Berlin:20250603T193000
DTEND;TZID=Europe/Berlin:20250603T213000
DTSTAMP:20260419T145350
CREATED:20250117T174030Z
LAST-MODIFIED:20250119T213311Z
UID:10000563-1748979000-1748986200@gemeinde-bornheim.de
SUMMARY:Landfrauen - Aromatherapie
DESCRIPTION:
URL:https://gemeinde-bornheim.de/veranstaltung/landfrauen-3/
LOCATION:Dorfgemeinschaftshaus\, In den Weppen 1\, Bornheim\, 76879\, Deutschland
CATEGORIES:Veranstaltung
ORGANIZER;CN="LandFrauenVerein e.V.":MAILTO:LandfrauenBornheim@web.de
END:VEVENT
BEGIN:VEVENT
DTSTART;VALUE=DATE:20250530
DTEND;VALUE=DATE:20250531
DTSTAMP:20260419T145350
CREATED:20240216T155110Z
LAST-MODIFIED:20240216T155110Z
UID:10000397-1748563200-1748649599@gemeinde-bornheim.de
SUMMARY:Privatveranstaltung
DESCRIPTION:
URL:https://gemeinde-bornheim.de/veranstaltung/privatveranstaltung-19/
LOCATION:Dorfgemeinschaftshaus\, In den Weppen 1\, Bornheim\, 76879\, Deutschland
CATEGORIES:Veranstaltung
END:VEVENT
BEGIN:VEVENT
DTSTART;TZID=Europe/Berlin:20250525T150000
DTEND;TZID=Europe/Berlin:20250525T180000
DTSTAMP:20260419T145350
CREATED:20250414T215729Z
LAST-MODIFIED:20250414T215729Z
UID:10000674-1748185200-1748196000@gemeinde-bornheim.de
SUMMARY:Bingo
DESCRIPTION:
URL:https://gemeinde-bornheim.de/veranstaltung/bingo/
LOCATION:Dorfgemeinschaftshaus\, In den Weppen 1\, Bornheim\, 76879\, Deutschland
CATEGORIES:Veranstaltung
ORGANIZER;CN="Ortsgemeinde Bornheim":MAILTO:rathaus@gemeinde-bornheim.de
END:VEVENT
BEGIN:VEVENT
DTSTART;TZID=Europe/Berlin:20250524T180000
DTEND;TZID=Europe/Berlin:20250524T235900
DTSTAMP:20260419T145350
CREATED:20240625T154025Z
LAST-MODIFIED:20250329T125359Z
UID:10000458-1748109600-1748131140@gemeinde-bornheim.de
SUMMARY:30 Jahre Freundeskreis Die Wachthäusler e.V.
DESCRIPTION:
URL:https://gemeinde-bornheim.de/veranstaltung/25-jahre-diakonieverein/
LOCATION:Dorfgemeinschaftshaus\, In den Weppen 1\, Bornheim\, 76879\, Deutschland
CATEGORIES:Veranstaltung
END:VEVENT
BEGIN:VEVENT
DTSTART;TZID=Europe/Berlin:20250517T080000
DTEND;TZID=Europe/Berlin:20250517T120000
DTSTAMP:20260419T145350
CREATED:20240206T164520Z
LAST-MODIFIED:20240206T164520Z
UID:10000388-1747468800-1747483200@gemeinde-bornheim.de
SUMMARY:Feuerwehrübung "Entrauchung"
DESCRIPTION:
URL:https://gemeinde-bornheim.de/veranstaltung/feuerwehruebung-entrauchung/
LOCATION:Dorfgemeinschaftshaus\, In den Weppen 1\, Bornheim\, 76879\, Deutschland
CATEGORIES:Veranstaltung
END:VEVENT
BEGIN:VEVENT
DTSTART;TZID=Europe/Berlin:20250515T160000
DTEND;TZID=Europe/Berlin:20250515T180000
DTSTAMP:20260419T145350
CREATED:20250117T172914Z
LAST-MODIFIED:20250117T172914Z
UID:10000556-1747324800-1747332000@gemeinde-bornheim.de
SUMMARY:Selbstverteidigungskurs KIB
DESCRIPTION:
URL:https://gemeinde-bornheim.de/veranstaltung/selbstverteidigungskurs-kib-2/
LOCATION:Dorfgemeinschaftshaus\, In den Weppen 1\, Bornheim\, 76879\, Deutschland
CATEGORIES:Veranstaltung
END:VEVENT
BEGIN:VEVENT
DTSTART;TZID=Europe/Berlin:20250508T160000
DTEND;TZID=Europe/Berlin:20250508T180000
DTSTAMP:20260419T145350
CREATED:20250117T172755Z
LAST-MODIFIED:20250117T172755Z
UID:10000555-1746720000-1746727200@gemeinde-bornheim.de
SUMMARY:Selbstverteidigungskurs KIB
DESCRIPTION:
URL:https://gemeinde-bornheim.de/veranstaltung/selbstverteidigungskurs-kib/
LOCATION:Dorfgemeinschaftshaus\, In den Weppen 1\, Bornheim\, 76879\, Deutschland
CATEGORIES:Veranstaltung
END:VEVENT
BEGIN:VEVENT
DTSTART;TZID=Europe/Berlin:20250506T190000
DTEND;TZID=Europe/Berlin:20250506T220000
DTSTAMP:20260419T145350
CREATED:20250121T214912Z
LAST-MODIFIED:20250121T214912Z
UID:10000573-1746558000-1746568800@gemeinde-bornheim.de
SUMMARY:Landfrauen - Vortrag der MILAG
DESCRIPTION:
URL:https://gemeinde-bornheim.de/veranstaltung/landfrauen-vortrag-der-milag/
LOCATION:Dorfgemeinschaftshaus\, In den Weppen 1\, Bornheim\, 76879\, Deutschland
CATEGORIES:Veranstaltung
ORGANIZER;CN="LandFrauenVerein e.V.":MAILTO:LandfrauenBornheim@web.de
END:VEVENT
BEGIN:VEVENT
DTSTART;TZID=Europe/Berlin:20250504T100000
DTEND;TZID=Europe/Berlin:20250504T170000
DTSTAMP:20260419T145350
CREATED:20241030T164028Z
LAST-MODIFIED:20250121T222813Z
UID:10000509-1746352800-1746378000@gemeinde-bornheim.de
SUMMARY:Vereinsfest Tierinsel mit Flohmarkt
DESCRIPTION:
URL:https://gemeinde-bornheim.de/veranstaltung/flohmarkt-tierinsel-10/
LOCATION:Dorfgemeinschaftshaus\, In den Weppen 1\, Bornheim\, 76879\, Deutschland
CATEGORIES:Veranstaltung
ORGANIZER;CN="Tierschutzverein Die Tierinsel e.V.":MAILTO:die-tierinsel@t-online.de
END:VEVENT
BEGIN:VEVENT
DTSTART;TZID=Europe/Berlin:20250503T100000
DTEND;TZID=Europe/Berlin:20250503T170000
DTSTAMP:20260419T145350
CREATED:20250121T223933Z
LAST-MODIFIED:20250121T223933Z
UID:10000584-1746266400-1746291600@gemeinde-bornheim.de
SUMMARY:Vereinsfest Tierinsel mit Flohmarkt
DESCRIPTION:
URL:https://gemeinde-bornheim.de/veranstaltung/vereinsfest-tierinsel-mit-flohmarkt/
LOCATION:Dorfgemeinschaftshaus\, In den Weppen 1\, Bornheim\, 76879\, Deutschland
CATEGORIES:Veranstaltung
ORGANIZER;CN="Tierschutzverein Die Tierinsel e.V.":MAILTO:die-tierinsel@t-online.de
END:VEVENT
BEGIN:VEVENT
DTSTART;TZID=Europe/Berlin:20250429T190000
DTEND;TZID=Europe/Berlin:20250429T220000
DTSTAMP:20260419T145350
CREATED:20250121T214709Z
LAST-MODIFIED:20250121T214739Z
UID:10000572-1745953200-1745964000@gemeinde-bornheim.de
SUMMARY:Landfrauen - Brotvariationen mit Dips
DESCRIPTION:
URL:https://gemeinde-bornheim.de/veranstaltung/landfrauen-brotvariationen-mit-dips/
LOCATION:Dorfgemeinschaftshaus\, In den Weppen 1\, Bornheim\, 76879\, Deutschland
CATEGORIES:Veranstaltung
ORGANIZER;CN="LandFrauenVerein e.V.":MAILTO:LandfrauenBornheim@web.de
END:VEVENT
BEGIN:VEVENT
DTSTART;TZID=Europe/Berlin:20250429T100000
DTEND;TZID=Europe/Berlin:20250429T120000
DTSTAMP:20260419T145350
CREATED:20250414T220240Z
LAST-MODIFIED:20250414T220240Z
UID:10000676-1745920800-1745928000@gemeinde-bornheim.de
SUMMARY:Kasper kommt ins DGH
DESCRIPTION:
URL:https://gemeinde-bornheim.de/veranstaltung/kasper-kommt-ins-dgh/
LOCATION:Dorfgemeinschaftshaus\, In den Weppen 1\, Bornheim\, 76879\, Deutschland
CATEGORIES:Veranstaltung
END:VEVENT
BEGIN:VEVENT
DTSTART;TZID=Europe/Berlin:20250420T080000
DTEND;TZID=Europe/Berlin:20250420T120000
DTSTAMP:20260419T145350
CREATED:20250404T224806Z
LAST-MODIFIED:20250404T224806Z
UID:10000661-1745136000-1745150400@gemeinde-bornheim.de
SUMMARY:Osterfrühstück Prot. Kirche
DESCRIPTION:
URL:https://gemeinde-bornheim.de/veranstaltung/osterfruehstueck-prot-kirche/
LOCATION:Dorfgemeinschaftshaus\, In den Weppen 1\, Bornheim\, 76879\, Deutschland
CATEGORIES:Veranstaltung
ORGANIZER;CN="Protestantische Kirchengemeinde":MAILTO:pfarramt.essingen@evkirchepfalz.de
END:VEVENT
END:VCALENDAR