BEGIN:VCALENDAR
VERSION:2.0
PRODID:-//Ortsgemeinde Bornheim/Pfalz - ECPv6.15.18//NONSGML v1.0//EN
CALSCALE:GREGORIAN
METHOD:PUBLISH
X-ORIGINAL-URL:https://gemeinde-bornheim.de
X-WR-CALDESC:Veranstaltungen für Ortsgemeinde Bornheim/Pfalz
REFRESH-INTERVAL;VALUE=DURATION:PT1H
X-Robots-Tag:noindex
X-PUBLISHED-TTL:PT1H
BEGIN:VTIMEZONE
TZID:Europe/Berlin
BEGIN:DAYLIGHT
TZOFFSETFROM:+0100
TZOFFSETTO:+0200
TZNAME:CEST
DTSTART:20250330T010000
END:DAYLIGHT
BEGIN:STANDARD
TZOFFSETFROM:+0200
TZOFFSETTO:+0100
TZNAME:CET
DTSTART:20251026T010000
END:STANDARD
BEGIN:DAYLIGHT
TZOFFSETFROM:+0100
TZOFFSETTO:+0200
TZNAME:CEST
DTSTART:20260329T010000
END:DAYLIGHT
BEGIN:STANDARD
TZOFFSETFROM:+0200
TZOFFSETTO:+0100
TZNAME:CET
DTSTART:20261025T010000
END:STANDARD
BEGIN:DAYLIGHT
TZOFFSETFROM:+0100
TZOFFSETTO:+0200
TZNAME:CEST
DTSTART:20270328T010000
END:DAYLIGHT
BEGIN:STANDARD
TZOFFSETFROM:+0200
TZOFFSETTO:+0100
TZNAME:CET
DTSTART:20271031T010000
END:STANDARD
BEGIN:DAYLIGHT
TZOFFSETFROM:+0100
TZOFFSETTO:+0200
TZNAME:CEST
DTSTART:20280326T010000
END:DAYLIGHT
BEGIN:STANDARD
TZOFFSETFROM:+0200
TZOFFSETTO:+0100
TZNAME:CET
DTSTART:20281029T010000
END:STANDARD
BEGIN:DAYLIGHT
TZOFFSETFROM:+0100
TZOFFSETTO:+0200
TZNAME:CEST
DTSTART:20290325T010000
END:DAYLIGHT
BEGIN:STANDARD
TZOFFSETFROM:+0200
TZOFFSETTO:+0100
TZNAME:CET
DTSTART:20291028T010000
END:STANDARD
BEGIN:DAYLIGHT
TZOFFSETFROM:+0100
TZOFFSETTO:+0200
TZNAME:CEST
DTSTART:20300331T010000
END:DAYLIGHT
BEGIN:STANDARD
TZOFFSETFROM:+0200
TZOFFSETTO:+0100
TZNAME:CET
DTSTART:20301027T010000
END:STANDARD
BEGIN:DAYLIGHT
TZOFFSETFROM:+0100
TZOFFSETTO:+0200
TZNAME:CEST
DTSTART:20310330T010000
END:DAYLIGHT
BEGIN:STANDARD
TZOFFSETFROM:+0200
TZOFFSETTO:+0100
TZNAME:CET
DTSTART:20311026T010000
END:STANDARD
BEGIN:DAYLIGHT
TZOFFSETFROM:+0100
TZOFFSETTO:+0200
TZNAME:CEST
DTSTART:20320328T010000
END:DAYLIGHT
BEGIN:STANDARD
TZOFFSETFROM:+0200
TZOFFSETTO:+0100
TZNAME:CET
DTSTART:20321031T010000
END:STANDARD
BEGIN:DAYLIGHT
TZOFFSETFROM:+0100
TZOFFSETTO:+0200
TZNAME:CEST
DTSTART:20330327T010000
END:DAYLIGHT
BEGIN:STANDARD
TZOFFSETFROM:+0200
TZOFFSETTO:+0100
TZNAME:CET
DTSTART:20331030T010000
END:STANDARD
END:VTIMEZONE
BEGIN:VEVENT
DTSTART;TZID=Europe/Berlin:20261225T080000
DTEND;TZID=Europe/Berlin:20261225T170000
DTSTAMP:20260421T173840
CREATED:20250213T211026Z
LAST-MODIFIED:20250213T211026Z
UID:10000644-1798185600-1798218000@gemeinde-bornheim.de
SUMMARY:1. Weihnachtstag
DESCRIPTION:
URL:https://gemeinde-bornheim.de/veranstaltung/1-weihnachtstag-2/
CATEGORIES:Feiertage
END:VEVENT
BEGIN:VEVENT
DTSTART;TZID=Europe/Berlin:20261226T080000
DTEND;TZID=Europe/Berlin:20261226T170000
DTSTAMP:20260421T173840
CREATED:20250213T211138Z
LAST-MODIFIED:20250213T211138Z
UID:10000645-1798272000-1798304400@gemeinde-bornheim.de
SUMMARY:2. Weihnachtstag
DESCRIPTION:
URL:https://gemeinde-bornheim.de/veranstaltung/2-weihnachtstag-2/
CATEGORIES:Feiertage
END:VEVENT
BEGIN:VEVENT
DTSTART;TZID=Europe/Berlin:20270129T190000
DTEND;TZID=Europe/Berlin:20270129T233000
DTSTAMP:20260421T173840
CREATED:20260110T132213Z
LAST-MODIFIED:20260110T132213Z
UID:10000813-1801249200-1801265400@gemeinde-bornheim.de
SUMMARY:Bornemer Fasenacht - Freundeskreis Die Wachthäusler
DESCRIPTION:
URL:https://gemeinde-bornheim.de/veranstaltung/bornemer-fasenacht-freundeskreis-die-wachthaeusler/
LOCATION:Dorfgemeinschaftshaus\, In den Weppen 1\, Bornheim\, 76879\, Deutschland
CATEGORIES:Veranstaltung
END:VEVENT
BEGIN:VEVENT
DTSTART;TZID=Europe/Berlin:20270213T100000
DTEND;TZID=Europe/Berlin:20270213T170000
DTSTAMP:20260421T173840
CREATED:20260110T131911Z
LAST-MODIFIED:20260110T131911Z
UID:10000812-1802512800-1802538000@gemeinde-bornheim.de
SUMMARY:Theaterstörche Bühnenaufbau
DESCRIPTION:
URL:https://gemeinde-bornheim.de/veranstaltung/theaterstoerche-buehnenaufbau/
LOCATION:Dorfgemeinschaftshaus\, In den Weppen 1\, Bornheim\, 76879\, Deutschland
CATEGORIES:Veranstaltung
END:VEVENT
BEGIN:VEVENT
DTSTART;TZID=Europe/Berlin:20270305T180000
DTEND;TZID=Europe/Berlin:20270305T220000
DTSTAMP:20260421T173840
CREATED:20260110T132432Z
LAST-MODIFIED:20260110T132432Z
UID:10000814-1804269600-1804284000@gemeinde-bornheim.de
SUMMARY:Weltgebetstag der Frauen
DESCRIPTION:
URL:https://gemeinde-bornheim.de/veranstaltung/weltgebetstag-der-frauen-5/
LOCATION:Dorfgemeinschaftshaus\, In den Weppen 1\, Bornheim\, 76879\, Deutschland
CATEGORIES:Veranstaltung
END:VEVENT
BEGIN:VEVENT
DTSTART;TZID=Europe/Berlin:20270313T200000
DTEND;TZID=Europe/Berlin:20270313T230000
DTSTAMP:20260421T173840
CREATED:20260110T131300Z
LAST-MODIFIED:20260110T131300Z
UID:10000807-1804968000-1804978800@gemeinde-bornheim.de
SUMMARY:1. Theateraufführung Theaterstörche
DESCRIPTION:
URL:https://gemeinde-bornheim.de/veranstaltung/1-theaterauffuehrung-theaterstoerche-3/
LOCATION:Dorfgemeinschaftshaus\, In den Weppen 1\, Bornheim\, 76879\, Deutschland
CATEGORIES:Veranstaltung
END:VEVENT
BEGIN:VEVENT
DTSTART;TZID=Europe/Berlin:20270314T190000
DTEND;TZID=Europe/Berlin:20270314T230000
DTSTAMP:20260421T173840
CREATED:20260110T131400Z
LAST-MODIFIED:20260110T131400Z
UID:10000808-1805050800-1805065200@gemeinde-bornheim.de
SUMMARY:2. Theateraufführung Theaterstörche
DESCRIPTION:
URL:https://gemeinde-bornheim.de/veranstaltung/2-theaterauffuehrung-theaterstoerche-3/
LOCATION:Dorfgemeinschaftshaus\, In den Weppen 1\, Bornheim\, 76879\, Deutschland
CATEGORIES:Veranstaltung
END:VEVENT
BEGIN:VEVENT
DTSTART;TZID=Europe/Berlin:20270319T200000
DTEND;TZID=Europe/Berlin:20270319T230000
DTSTAMP:20260421T173840
CREATED:20260110T131458Z
LAST-MODIFIED:20260110T131458Z
UID:10000809-1805486400-1805497200@gemeinde-bornheim.de
SUMMARY:3. Theateraufführung Theaterstörche
DESCRIPTION:
URL:https://gemeinde-bornheim.de/veranstaltung/3-theaterauffuehrung-theaterstoerche-4/
LOCATION:Dorfgemeinschaftshaus\, In den Weppen 1\, Bornheim\, 76879\, Deutschland
CATEGORIES:Veranstaltung
END:VEVENT
BEGIN:VEVENT
DTSTART;TZID=Europe/Berlin:20270320T200000
DTEND;TZID=Europe/Berlin:20270320T230000
DTSTAMP:20260421T173840
CREATED:20260110T131558Z
LAST-MODIFIED:20260110T131703Z
UID:10000810-1805572800-1805583600@gemeinde-bornheim.de
SUMMARY:4. Theateraufführung Theaterstörche
DESCRIPTION:
URL:https://gemeinde-bornheim.de/veranstaltung/4-theaterauffuehrung-theaterstoerche-4/
LOCATION:Dorfgemeinschaftshaus\, In den Weppen 1\, Bornheim\, 76879\, Deutschland
CATEGORIES:Veranstaltung
END:VEVENT
BEGIN:VEVENT
DTSTART;TZID=Europe/Berlin:20270321T190000
DTEND;TZID=Europe/Berlin:20270321T230000
DTSTAMP:20260421T173840
CREATED:20260110T131800Z
LAST-MODIFIED:20260110T131800Z
UID:10000811-1805655600-1805670000@gemeinde-bornheim.de
SUMMARY:5. Theateraufführung Theaterstörche
DESCRIPTION:
URL:https://gemeinde-bornheim.de/veranstaltung/5-theaterauffuehrung-theaterstoerche-3/
LOCATION:Dorfgemeinschaftshaus\, In den Weppen 1\, Bornheim\, 76879\, Deutschland
CATEGORIES:Veranstaltung
END:VEVENT
BEGIN:VEVENT
DTSTART;TZID=Europe/Berlin:20270611T080000
DTEND;TZID=Europe/Berlin:20270611T170000
DTSTAMP:20260421T173840
CREATED:20260311T170355Z
LAST-MODIFIED:20260311T170355Z
UID:10000830-1812700800-1812733200@gemeinde-bornheim.de
SUMMARY:175 Jahre Feuerwehr Bornheim
DESCRIPTION:
URL:https://gemeinde-bornheim.de/veranstaltung/175-jahre-feuerwehr-bornheim/
LOCATION:Dorfgemeinschaftshaus\, In den Weppen 1\, Bornheim\, 76879\, Deutschland
CATEGORIES:Veranstaltung
END:VEVENT
BEGIN:VEVENT
DTSTART;TZID=Europe/Berlin:20270612T080000
DTEND;TZID=Europe/Berlin:20270612T230000
DTSTAMP:20260421T173840
CREATED:20260311T170454Z
LAST-MODIFIED:20260311T170454Z
UID:10000831-1812787200-1812841200@gemeinde-bornheim.de
SUMMARY:175 Jahre Feuerwehr Bornheim
DESCRIPTION:
URL:https://gemeinde-bornheim.de/veranstaltung/175-jahre-feuerwehr-bornheim-2/
LOCATION:Dorfgemeinschaftshaus\, In den Weppen 1\, Bornheim\, 76879\, Deutschland
CATEGORIES:Veranstaltung
END:VEVENT
BEGIN:VEVENT
DTSTART;TZID=Europe/Berlin:20270613T080000
DTEND;TZID=Europe/Berlin:20270613T230000
DTSTAMP:20260421T173840
CREATED:20260311T170537Z
LAST-MODIFIED:20260311T170537Z
UID:10000832-1812873600-1812927600@gemeinde-bornheim.de
SUMMARY:175 Jahre Feuerwehr Bornheim
DESCRIPTION:
URL:https://gemeinde-bornheim.de/veranstaltung/175-jahre-feuerwehr-bornheim-3/
LOCATION:Dorfgemeinschaftshaus\, In den Weppen 1\, Bornheim\, 76879\, Deutschland
CATEGORIES:Veranstaltung
END:VEVENT
BEGIN:VEVENT
DTSTART;VALUE=DATE:20271101
DTEND;VALUE=DATE:20271102
DTSTAMP:20260421T173840
CREATED:20221223T172905Z
LAST-MODIFIED:20221223T172905Z
UID:10000036-1825027200-1825113599@gemeinde-bornheim.de
SUMMARY:Aller­heiligen
DESCRIPTION:
URL:https://gemeinde-bornheim.de/veranstaltung/allerheiligen/2027-11-01/
CATEGORIES:Feiertage
END:VEVENT
BEGIN:VEVENT
DTSTART;VALUE=DATE:20281101
DTEND;VALUE=DATE:20281102
DTSTAMP:20260421T173840
CREATED:20221223T172905Z
LAST-MODIFIED:20221223T172905Z
UID:10000037-1856649600-1856735999@gemeinde-bornheim.de
SUMMARY:Aller­heiligen
DESCRIPTION:
URL:https://gemeinde-bornheim.de/veranstaltung/allerheiligen/2028-11-01/
CATEGORIES:Feiertage
END:VEVENT
BEGIN:VEVENT
DTSTART;VALUE=DATE:20291101
DTEND;VALUE=DATE:20291102
DTSTAMP:20260421T173840
CREATED:20221223T172905Z
LAST-MODIFIED:20221223T172905Z
UID:10000038-1888185600-1888271999@gemeinde-bornheim.de
SUMMARY:Aller­heiligen
DESCRIPTION:
URL:https://gemeinde-bornheim.de/veranstaltung/allerheiligen/2029-11-01/
CATEGORIES:Feiertage
END:VEVENT
BEGIN:VEVENT
DTSTART;VALUE=DATE:20301101
DTEND;VALUE=DATE:20301102
DTSTAMP:20260421T173840
CREATED:20221223T172905Z
LAST-MODIFIED:20221223T172905Z
UID:10000039-1919721600-1919807999@gemeinde-bornheim.de
SUMMARY:Aller­heiligen
DESCRIPTION:
URL:https://gemeinde-bornheim.de/veranstaltung/allerheiligen/2030-11-01/
CATEGORIES:Feiertage
END:VEVENT
BEGIN:VEVENT
DTSTART;VALUE=DATE:20311101
DTEND;VALUE=DATE:20311102
DTSTAMP:20260421T173840
CREATED:20221223T172905Z
LAST-MODIFIED:20221223T172905Z
UID:10000040-1951257600-1951343999@gemeinde-bornheim.de
SUMMARY:Aller­heiligen
DESCRIPTION:
URL:https://gemeinde-bornheim.de/veranstaltung/allerheiligen/2031-11-01/
CATEGORIES:Feiertage
END:VEVENT
BEGIN:VEVENT
DTSTART;VALUE=DATE:20321101
DTEND;VALUE=DATE:20321102
DTSTAMP:20260421T173840
CREATED:20221223T172905Z
LAST-MODIFIED:20221223T172905Z
UID:10000041-1982880000-1982966399@gemeinde-bornheim.de
SUMMARY:Aller­heiligen
DESCRIPTION:
URL:https://gemeinde-bornheim.de/veranstaltung/allerheiligen/2032-11-01/
CATEGORIES:Feiertage
END:VEVENT
END:VCALENDAR