BEGIN:VCALENDAR
VERSION:2.0
PRODID:-//Ortsgemeinde Bornheim/Pfalz - ECPv6.15.18//NONSGML v1.0//EN
CALSCALE:GREGORIAN
METHOD:PUBLISH
X-WR-CALNAME:Ortsgemeinde Bornheim/Pfalz
X-ORIGINAL-URL:https://gemeinde-bornheim.de
X-WR-CALDESC:Veranstaltungen für Ortsgemeinde Bornheim/Pfalz
REFRESH-INTERVAL;VALUE=DURATION:PT1H
X-Robots-Tag:noindex
X-PUBLISHED-TTL:PT1H
BEGIN:VTIMEZONE
TZID:Europe/Berlin
BEGIN:DAYLIGHT
TZOFFSETFROM:+0100
TZOFFSETTO:+0200
TZNAME:CEST
DTSTART:20250330T010000
END:DAYLIGHT
BEGIN:STANDARD
TZOFFSETFROM:+0200
TZOFFSETTO:+0100
TZNAME:CET
DTSTART:20251026T010000
END:STANDARD
BEGIN:DAYLIGHT
TZOFFSETFROM:+0100
TZOFFSETTO:+0200
TZNAME:CEST
DTSTART:20260329T010000
END:DAYLIGHT
BEGIN:STANDARD
TZOFFSETFROM:+0200
TZOFFSETTO:+0100
TZNAME:CET
DTSTART:20261025T010000
END:STANDARD
BEGIN:DAYLIGHT
TZOFFSETFROM:+0100
TZOFFSETTO:+0200
TZNAME:CEST
DTSTART:20270328T010000
END:DAYLIGHT
BEGIN:STANDARD
TZOFFSETFROM:+0200
TZOFFSETTO:+0100
TZNAME:CET
DTSTART:20271031T010000
END:STANDARD
BEGIN:DAYLIGHT
TZOFFSETFROM:+0100
TZOFFSETTO:+0200
TZNAME:CEST
DTSTART:20280326T010000
END:DAYLIGHT
BEGIN:STANDARD
TZOFFSETFROM:+0200
TZOFFSETTO:+0100
TZNAME:CET
DTSTART:20281029T010000
END:STANDARD
END:VTIMEZONE
BEGIN:VEVENT
DTSTART;TZID=Europe/Berlin:20261102T140000
DTEND;TZID=Europe/Berlin:20261102T180000
DTSTAMP:20260421T140106
CREATED:20251123T215416Z
LAST-MODIFIED:20251123T215416Z
UID:10000761-1793628000-1793642400@gemeinde-bornheim.de
SUMMARY:Landfrauen - Bewirtung der Senioren am Seniorennachmittag
DESCRIPTION:
URL:https://gemeinde-bornheim.de/veranstaltung/landfrauen-bewirtung-der-senioren-am-seniorennachmittag/
LOCATION:Dorfgemeinschaftshaus – kleiner Saal\, In den Weppen 1\, Bornheim\, 76879\, Deutschland
CATEGORIES:Veranstaltung
ORGANIZER;CN="LandFrauenVerein e.V.":MAILTO:LandfrauenBornheim@web.de
END:VEVENT
BEGIN:VEVENT
DTSTART;TZID=Europe/Berlin:20261107T200000
DTEND;TZID=Europe/Berlin:20261107T220000
DTSTAMP:20260421T140106
CREATED:20250920T215143Z
LAST-MODIFIED:20250920T215143Z
UID:10000723-1794081600-1794088800@gemeinde-bornheim.de
SUMMARY:Annette Postel - Die Postel jubiliert
DESCRIPTION:
URL:https://gemeinde-bornheim.de/veranstaltung/annette-postel-die-postel-jubiliert/
LOCATION:Dorfgemeinschaftshaus\, In den Weppen 1\, Bornheim\, 76879\, Deutschland
CATEGORIES:Veranstaltung
ORGANIZER;CN="Ortsgemeinde Bornheim":MAILTO:rathaus@gemeinde-bornheim.de
END:VEVENT
BEGIN:VEVENT
DTSTART;TZID=Europe/Berlin:20261109T190000
DTEND;TZID=Europe/Berlin:20261109T210000
DTSTAMP:20260421T140106
CREATED:20251215T100428Z
LAST-MODIFIED:20251215T100428Z
UID:10000797-1794250800-1794258000@gemeinde-bornheim.de
SUMMARY:16. Sitzung des Gemeinderats
DESCRIPTION:Weitere Informationen über die Sitzung\, wie z.B. die Tagesordnung\,\nfinden Sie auf der Homepage der Verbandsgemeinde Offenbach hier.
URL:https://gemeinde-bornheim.de/veranstaltung/16-sitzung-des-gemeinderats/
LOCATION:Rathaus – Ratssaal\, Hauptstraße 19\, Bornheim\, 76879\, Deutschland
CATEGORIES:Veranstaltung
ORGANIZER;CN="Ortsgemeinde Bornheim":MAILTO:rathaus@gemeinde-bornheim.de
END:VEVENT
BEGIN:VEVENT
DTSTART;TZID=Europe/Berlin:20261110T190000
DTEND;TZID=Europe/Berlin:20261110T210000
DTSTAMP:20260421T140106
CREATED:20251123T215555Z
LAST-MODIFIED:20251123T215555Z
UID:10000762-1794337200-1794344400@gemeinde-bornheim.de
SUMMARY:Landfrauen - Vortrag der Gemeindeschwester Plus
DESCRIPTION:
URL:https://gemeinde-bornheim.de/veranstaltung/landfrauen-vortrag-der-gemeindeschwester-plus/
LOCATION:Dorfgemeinschaftshaus – kleiner Saal\, In den Weppen 1\, Bornheim\, 76879\, Deutschland
CATEGORIES:Veranstaltung
ORGANIZER;CN="LandFrauenVerein e.V.":MAILTO:LandfrauenBornheim@web.de
END:VEVENT
BEGIN:VEVENT
DTSTART;VALUE=DATE:20261111
DTEND;VALUE=DATE:20261112
DTSTAMP:20260421T140106
CREATED:20250213T205707Z
LAST-MODIFIED:20250213T205707Z
UID:10000636-1794355200-1794441599@gemeinde-bornheim.de
SUMMARY:Martinstag
DESCRIPTION:
URL:https://gemeinde-bornheim.de/veranstaltung/martinstag/
CATEGORIES:Feiertage
END:VEVENT
BEGIN:VEVENT
DTSTART;TZID=Europe/Berlin:20261113T190000
DTEND;TZID=Europe/Berlin:20261113T220000
DTSTAMP:20260421T140106
CREATED:20251127T221423Z
LAST-MODIFIED:20251127T221423Z
UID:10000776-1794596400-1794607200@gemeinde-bornheim.de
SUMMARY:Diakonieverein - Filmzeit
DESCRIPTION:
URL:https://gemeinde-bornheim.de/veranstaltung/diakonieverein-filmzeit-2/
LOCATION:Dorfgemeinschaftshaus\, In den Weppen 1\, Bornheim\, 76879\, Deutschland
CATEGORIES:Veranstaltung
ORGANIZER;CN="Diakonieverein Bornheim e.V.":MAILTO:WZeidler@gmx.de
END:VEVENT
BEGIN:VEVENT
DTSTART;TZID=Europe/Berlin:20261114T100000
DTEND;TZID=Europe/Berlin:20261114T140000
DTSTAMP:20260421T140106
CREATED:20251103T185436Z
LAST-MODIFIED:20251108T220237Z
UID:10000740-1794650400-1794664800@gemeinde-bornheim.de
SUMMARY:LandFrauen - Basteln mit Kindern
DESCRIPTION:
URL:https://gemeinde-bornheim.de/veranstaltung/basteln-mit-den-landfrauen/
LOCATION:Dorfgemeinschaftshaus – kleiner Saal\, In den Weppen 1\, Bornheim\, 76879\, Deutschland
CATEGORIES:Veranstaltung
ORGANIZER;CN="LandFrauenVerein e.V.":MAILTO:LandfrauenBornheim@web.de
END:VEVENT
BEGIN:VEVENT
DTSTART;VALUE=DATE:20261115
DTEND;VALUE=DATE:20261116
DTSTAMP:20260421T140106
CREATED:20250213T205751Z
LAST-MODIFIED:20250213T205751Z
UID:10000637-1794700800-1794787199@gemeinde-bornheim.de
SUMMARY:Volkstrauertag
DESCRIPTION:
URL:https://gemeinde-bornheim.de/veranstaltung/volkstrauertag/
CATEGORIES:Feiertage
END:VEVENT
BEGIN:VEVENT
DTSTART;TZID=Europe/Berlin:20261117T080000
DTEND;TZID=Europe/Berlin:20261117T170000
DTSTAMP:20260421T140106
CREATED:20251123T215858Z
LAST-MODIFIED:20251123T215858Z
UID:10000764-1794902400-1794934800@gemeinde-bornheim.de
SUMMARY:Landfrauen - Kreativangebot "Holzkunst"
DESCRIPTION:
URL:https://gemeinde-bornheim.de/veranstaltung/landfrauen-kreativangebot-holzkunst/
LOCATION:Dorfgemeinschaftshaus – kleiner Saal\, In den Weppen 1\, Bornheim\, 76879\, Deutschland
CATEGORIES:Veranstaltung
ORGANIZER;CN="LandFrauenVerein e.V.":MAILTO:LandfrauenBornheim@web.de
END:VEVENT
BEGIN:VEVENT
DTSTART;TZID=Europe/Berlin:20261121T140000
DTEND;TZID=Europe/Berlin:20261122T180000
DTSTAMP:20260421T140106
CREATED:20250213T210009Z
LAST-MODIFIED:20251108T220054Z
UID:10000639-1795269600-1795370400@gemeinde-bornheim.de
SUMMARY:Hobbykünstlerausstellung
DESCRIPTION:
URL:https://gemeinde-bornheim.de/veranstaltung/hobbykuenstlerausstellung-6/
LOCATION:Dorfgemeinschaftshaus\, In den Weppen 1\, Bornheim\, 76879\, Deutschland
CATEGORIES:Veranstaltung
END:VEVENT
BEGIN:VEVENT
DTSTART;TZID=Europe/Berlin:20261122T080000
DTEND;TZID=Europe/Berlin:20261122T170000
DTSTAMP:20260421T140106
CREATED:20250213T205855Z
LAST-MODIFIED:20250213T205855Z
UID:10000638-1795334400-1795366800@gemeinde-bornheim.de
SUMMARY:Totensonntag
DESCRIPTION:
URL:https://gemeinde-bornheim.de/veranstaltung/totensonntag/
CATEGORIES:Feiertage
END:VEVENT
BEGIN:VEVENT
DTSTART;TZID=Europe/Berlin:20261122T110000
DTEND;TZID=Europe/Berlin:20261122T180000
DTSTAMP:20260421T140106
CREATED:20250213T210117Z
LAST-MODIFIED:20250213T210117Z
UID:10000640-1795345200-1795370400@gemeinde-bornheim.de
SUMMARY:Hobbykünstlerausstellung
DESCRIPTION:
URL:https://gemeinde-bornheim.de/veranstaltung/hobbykuenstlerausstellung-7/
LOCATION:Dorfgemeinschaftshaus\, In den Weppen 1\, Bornheim\, 76879\, Deutschland
CATEGORIES:Veranstaltung
END:VEVENT
BEGIN:VEVENT
DTSTART;TZID=Europe/Berlin:20261125T140000
DTEND;TZID=Europe/Berlin:20261125T170000
DTSTAMP:20260421T140106
CREATED:20250827T223743Z
LAST-MODIFIED:20250827T223743Z
UID:10000711-1795615200-1795626000@gemeinde-bornheim.de
SUMMARY:Backen mit Senioren und KIB
DESCRIPTION:Die Kinderinitiative und die Seniorinnen und Senioren backen gemeinsam Weihnachtsgebäck.
URL:https://gemeinde-bornheim.de/veranstaltung/backen-mit-senioren-und-kib-2/
LOCATION:Dorfgemeinschaftshaus\, In den Weppen 1\, Bornheim\, 76879\, Deutschland
CATEGORIES:Veranstaltung
END:VEVENT
BEGIN:VEVENT
DTSTART;VALUE=DATE:20261127
DTEND;VALUE=DATE:20261128
DTSTAMP:20260421T140106
CREATED:20250131T163957Z
LAST-MODIFIED:20250131T163957Z
UID:10000593-1795737600-1795823999@gemeinde-bornheim.de
SUMMARY:Privatveranstaltung
DESCRIPTION:
URL:https://gemeinde-bornheim.de/veranstaltung/privatveranstaltung-40/
LOCATION:Dorfgemeinschaftshaus\, In den Weppen 1\, Bornheim\, 76879\, Deutschland
CATEGORIES:Veranstaltung
END:VEVENT
BEGIN:VEVENT
DTSTART;TZID=Europe/Berlin:20261129T170000
DTEND;TZID=Europe/Berlin:20261129T190000
DTSTAMP:20260421T140106
CREATED:20250213T210543Z
LAST-MODIFIED:20250213T210543Z
UID:10000641-1795971600-1795978800@gemeinde-bornheim.de
SUMMARY:Krippensaison-Eröffnung
DESCRIPTION:
URL:https://gemeinde-bornheim.de/veranstaltung/krippensaison-eroeffnung-4/
LOCATION:Saubrunnen\, Bornheim\, Rheinland-Pfalz\, 76879\, Deutschland
CATEGORIES:Veranstaltung
ORGANIZER;CN="Ortsgemeinde Bornheim":MAILTO:rathaus@gemeinde-bornheim.de
END:VEVENT
BEGIN:VEVENT
DTSTART;TZID=Europe/Berlin:20261129T200000
DTEND;TZID=Europe/Berlin:20261129T223000
DTSTAMP:20260421T140106
CREATED:20250414T213315Z
LAST-MODIFIED:20250414T213315Z
UID:10000670-1795982400-1795991400@gemeinde-bornheim.de
SUMMARY:Gospelchor Goodnews Landau
DESCRIPTION:
URL:https://gemeinde-bornheim.de/veranstaltung/gospelchor-goodnews-landau/
LOCATION:Dorfgemeinschaftshaus\, In den Weppen 1\, Bornheim\, 76879\, Deutschland
CATEGORIES:Veranstaltung
ORGANIZER;CN="Ortsgemeinde Bornheim":MAILTO:rathaus@gemeinde-bornheim.de
END:VEVENT
BEGIN:VEVENT
DTSTART;TZID=Europe/Berlin:20261201T190000
DTEND;TZID=Europe/Berlin:20261201T220000
DTSTAMP:20260421T140106
CREATED:20251123T220053Z
LAST-MODIFIED:20251123T220053Z
UID:10000765-1796151600-1796162400@gemeinde-bornheim.de
SUMMARY:Landfrauen - Kochvortrag "Wok mit heimischen Produkten"
DESCRIPTION:
URL:https://gemeinde-bornheim.de/veranstaltung/landfrauen-kochvortrag-wok-mit-heimischen-produkten/
LOCATION:Dorfgemeinschaftshaus – kleiner Saal\, In den Weppen 1\, Bornheim\, 76879\, Deutschland
CATEGORIES:Veranstaltung
ORGANIZER;CN="LandFrauenVerein e.V.":MAILTO:LandfrauenBornheim@web.de
END:VEVENT
BEGIN:VEVENT
DTSTART;TZID=Europe/Berlin:20261205T090000
DTEND;TZID=Europe/Berlin:20261205T120000
DTSTAMP:20260421T140106
CREATED:20251127T221748Z
LAST-MODIFIED:20251127T221748Z
UID:10000777-1796461200-1796472000@gemeinde-bornheim.de
SUMMARY:Diakonieverein - Frühstück
DESCRIPTION:
URL:https://gemeinde-bornheim.de/veranstaltung/diakonieverein-fruehstueck-7/
LOCATION:Dorfgemeinschaftshaus\, In den Weppen 1\, Bornheim\, 76879\, Deutschland
CATEGORIES:Veranstaltung
ORGANIZER;CN="Diakonieverein Bornheim e.V.":MAILTO:WZeidler@gmx.de
END:VEVENT
BEGIN:VEVENT
DTSTART;TZID=Europe/Berlin:20261206T170000
DTEND;TZID=Europe/Berlin:20261206T190000
DTSTAMP:20260421T140106
CREATED:20250213T210758Z
LAST-MODIFIED:20250213T210758Z
UID:10000642-1796576400-1796583600@gemeinde-bornheim.de
SUMMARY:Nikolaus
DESCRIPTION:
URL:https://gemeinde-bornheim.de/veranstaltung/nikolaus/
LOCATION:Dorfgemeinschaftshaus\, In den Weppen 1\, Bornheim\, 76879\, Deutschland
CATEGORIES:Veranstaltung
ORGANIZER;CN="Ortsgemeinde Bornheim":MAILTO:rathaus@gemeinde-bornheim.de
END:VEVENT
BEGIN:VEVENT
DTSTART;TZID=Europe/Berlin:20261211T190000
DTEND;TZID=Europe/Berlin:20261211T220000
DTSTAMP:20260421T140106
CREATED:20251127T221911Z
LAST-MODIFIED:20251127T221911Z
UID:10000778-1797015600-1797026400@gemeinde-bornheim.de
SUMMARY:Diakonieverein - Filmzeit
DESCRIPTION:
URL:https://gemeinde-bornheim.de/veranstaltung/diakonieverein-filmzeit-3/
LOCATION:Dorfgemeinschaftshaus\, In den Weppen 1\, Bornheim\, 76879\, Deutschland
CATEGORIES:Veranstaltung
ORGANIZER;CN="Diakonieverein Bornheim e.V.":MAILTO:WZeidler@gmx.de
END:VEVENT
BEGIN:VEVENT
DTSTART;TZID=Europe/Berlin:20261214T180000
DTEND;TZID=Europe/Berlin:20261214T200000
DTSTAMP:20260421T140106
CREATED:20251215T100505Z
LAST-MODIFIED:20251215T100603Z
UID:10000798-1797271200-1797278400@gemeinde-bornheim.de
SUMMARY:17. Sitzung des Gemeinderats
DESCRIPTION:Weitere Informationen über die Sitzung\, wie z.B. die Tagesordnung\,\nfinden Sie auf der Homepage der Verbandsgemeinde Offenbach hier.
URL:https://gemeinde-bornheim.de/veranstaltung/17-sitzung-des-gemeinderats/
LOCATION:Rathaus – Ratssaal\, Hauptstraße 19\, Bornheim\, 76879\, Deutschland
CATEGORIES:Veranstaltung
ORGANIZER;CN="Ortsgemeinde Bornheim":MAILTO:rathaus@gemeinde-bornheim.de
END:VEVENT
BEGIN:VEVENT
DTSTART;TZID=Europe/Berlin:20261217T180000
DTEND;TZID=Europe/Berlin:20261217T230000
DTSTAMP:20260421T140106
CREATED:20251212T140654Z
LAST-MODIFIED:20251212T140654Z
UID:10000783-1797530400-1797548400@gemeinde-bornheim.de
SUMMARY:Weihnachtsfeier Gymnastikfrauen am Abend
DESCRIPTION:
URL:https://gemeinde-bornheim.de/veranstaltung/weihnachtsfeier-gymnastikfrauen-am-abend/
LOCATION:Dorfgemeinschaftshaus – kleiner Saal\, In den Weppen 1\, Bornheim\, 76879\, Deutschland
CATEGORIES:Veranstaltung
END:VEVENT
BEGIN:VEVENT
DTSTART;TZID=Europe/Berlin:20261218T180000
DTEND;TZID=Europe/Berlin:20261218T230000
DTSTAMP:20260421T140106
CREATED:20251212T140816Z
LAST-MODIFIED:20251212T140816Z
UID:10000784-1797616800-1797634800@gemeinde-bornheim.de
SUMMARY:Weihnachtsfeier Gymnastikfrauen am Morgen
DESCRIPTION:
URL:https://gemeinde-bornheim.de/veranstaltung/weihnachtsfeier-gymnastikfrauen-am-morgen/
LOCATION:Dorfgemeinschaftshaus – kleiner Saal\, In den Weppen 1\, Bornheim\, 76879\, Deutschland
CATEGORIES:Veranstaltung
END:VEVENT
BEGIN:VEVENT
DTSTART;VALUE=DATE:20261224
DTEND;VALUE=DATE:20261225
DTSTAMP:20260421T140106
CREATED:20250213T210922Z
LAST-MODIFIED:20250213T210922Z
UID:10000643-1798070400-1798156799@gemeinde-bornheim.de
SUMMARY:Heiligabend
DESCRIPTION:
URL:https://gemeinde-bornheim.de/veranstaltung/heiligabend-2/
CATEGORIES:Feiertage
END:VEVENT
BEGIN:VEVENT
DTSTART;TZID=Europe/Berlin:20261225T080000
DTEND;TZID=Europe/Berlin:20261225T170000
DTSTAMP:20260421T140106
CREATED:20250213T211026Z
LAST-MODIFIED:20250213T211026Z
UID:10000644-1798185600-1798218000@gemeinde-bornheim.de
SUMMARY:1. Weihnachtstag
DESCRIPTION:
URL:https://gemeinde-bornheim.de/veranstaltung/1-weihnachtstag-2/
CATEGORIES:Feiertage
END:VEVENT
BEGIN:VEVENT
DTSTART;TZID=Europe/Berlin:20261226T080000
DTEND;TZID=Europe/Berlin:20261226T170000
DTSTAMP:20260421T140106
CREATED:20250213T211138Z
LAST-MODIFIED:20250213T211138Z
UID:10000645-1798272000-1798304400@gemeinde-bornheim.de
SUMMARY:2. Weihnachtstag
DESCRIPTION:
URL:https://gemeinde-bornheim.de/veranstaltung/2-weihnachtstag-2/
CATEGORIES:Feiertage
END:VEVENT
BEGIN:VEVENT
DTSTART;TZID=Europe/Berlin:20270129T190000
DTEND;TZID=Europe/Berlin:20270129T233000
DTSTAMP:20260421T140106
CREATED:20260110T132213Z
LAST-MODIFIED:20260110T132213Z
UID:10000813-1801249200-1801265400@gemeinde-bornheim.de
SUMMARY:Bornemer Fasenacht - Freundeskreis Die Wachthäusler
DESCRIPTION:
URL:https://gemeinde-bornheim.de/veranstaltung/bornemer-fasenacht-freundeskreis-die-wachthaeusler/
LOCATION:Dorfgemeinschaftshaus\, In den Weppen 1\, Bornheim\, 76879\, Deutschland
CATEGORIES:Veranstaltung
END:VEVENT
BEGIN:VEVENT
DTSTART;TZID=Europe/Berlin:20270213T100000
DTEND;TZID=Europe/Berlin:20270213T170000
DTSTAMP:20260421T140106
CREATED:20260110T131911Z
LAST-MODIFIED:20260110T131911Z
UID:10000812-1802512800-1802538000@gemeinde-bornheim.de
SUMMARY:Theaterstörche Bühnenaufbau
DESCRIPTION:
URL:https://gemeinde-bornheim.de/veranstaltung/theaterstoerche-buehnenaufbau/
LOCATION:Dorfgemeinschaftshaus\, In den Weppen 1\, Bornheim\, 76879\, Deutschland
CATEGORIES:Veranstaltung
END:VEVENT
BEGIN:VEVENT
DTSTART;TZID=Europe/Berlin:20270305T180000
DTEND;TZID=Europe/Berlin:20270305T220000
DTSTAMP:20260421T140106
CREATED:20260110T132432Z
LAST-MODIFIED:20260110T132432Z
UID:10000814-1804269600-1804284000@gemeinde-bornheim.de
SUMMARY:Weltgebetstag der Frauen
DESCRIPTION:
URL:https://gemeinde-bornheim.de/veranstaltung/weltgebetstag-der-frauen-5/
LOCATION:Dorfgemeinschaftshaus\, In den Weppen 1\, Bornheim\, 76879\, Deutschland
CATEGORIES:Veranstaltung
END:VEVENT
BEGIN:VEVENT
DTSTART;TZID=Europe/Berlin:20270313T200000
DTEND;TZID=Europe/Berlin:20270313T230000
DTSTAMP:20260421T140106
CREATED:20260110T131300Z
LAST-MODIFIED:20260110T131300Z
UID:10000807-1804968000-1804978800@gemeinde-bornheim.de
SUMMARY:1. Theateraufführung Theaterstörche
DESCRIPTION:
URL:https://gemeinde-bornheim.de/veranstaltung/1-theaterauffuehrung-theaterstoerche-3/
LOCATION:Dorfgemeinschaftshaus\, In den Weppen 1\, Bornheim\, 76879\, Deutschland
CATEGORIES:Veranstaltung
END:VEVENT
END:VCALENDAR