BEGIN:VCALENDAR
VERSION:2.0
PRODID:-//Ortsgemeinde Bornheim/Pfalz - ECPv6.15.18//NONSGML v1.0//EN
CALSCALE:GREGORIAN
METHOD:PUBLISH
X-WR-CALNAME:Ortsgemeinde Bornheim/Pfalz
X-ORIGINAL-URL:https://gemeinde-bornheim.de
X-WR-CALDESC:Veranstaltungen für Ortsgemeinde Bornheim/Pfalz
REFRESH-INTERVAL;VALUE=DURATION:PT1H
X-Robots-Tag:noindex
X-PUBLISHED-TTL:PT1H
BEGIN:VTIMEZONE
TZID:Europe/Berlin
BEGIN:DAYLIGHT
TZOFFSETFROM:+0100
TZOFFSETTO:+0200
TZNAME:CEST
DTSTART:20250330T010000
END:DAYLIGHT
BEGIN:STANDARD
TZOFFSETFROM:+0200
TZOFFSETTO:+0100
TZNAME:CET
DTSTART:20251026T010000
END:STANDARD
BEGIN:DAYLIGHT
TZOFFSETFROM:+0100
TZOFFSETTO:+0200
TZNAME:CEST
DTSTART:20260329T010000
END:DAYLIGHT
BEGIN:STANDARD
TZOFFSETFROM:+0200
TZOFFSETTO:+0100
TZNAME:CET
DTSTART:20261025T010000
END:STANDARD
BEGIN:DAYLIGHT
TZOFFSETFROM:+0100
TZOFFSETTO:+0200
TZNAME:CEST
DTSTART:20270328T010000
END:DAYLIGHT
BEGIN:STANDARD
TZOFFSETFROM:+0200
TZOFFSETTO:+0100
TZNAME:CET
DTSTART:20271031T010000
END:STANDARD
END:VTIMEZONE
BEGIN:VEVENT
DTSTART;VALUE=DATE:20260906
DTEND;VALUE=DATE:20260907
DTSTAMP:20260419T163843
CREATED:20250213T203005Z
LAST-MODIFIED:20250213T203005Z
UID:10000615-1788652800-1788739199@gemeinde-bornheim.de
SUMMARY:Bornheimer Kerwe
DESCRIPTION:
URL:https://gemeinde-bornheim.de/veranstaltung/bornheimer-kerwe-8/
LOCATION:Dorfgemeinschaftshaus\, In den Weppen 1\, Bornheim\, 76879\, Deutschland
CATEGORIES:Veranstaltung
ORGANIZER;CN="Ortsgemeinde Bornheim":MAILTO:rathaus@gemeinde-bornheim.de
END:VEVENT
BEGIN:VEVENT
DTSTART;TZID=Europe/Berlin:20260906T110000
DTEND;TZID=Europe/Berlin:20260906T180000
DTSTAMP:20260419T163843
CREATED:20251029T215709Z
LAST-MODIFIED:20251029T215828Z
UID:10000738-1788692400-1788717600@gemeinde-bornheim.de
SUMMARY:Bücher-Flohmarkt KÖB
DESCRIPTION:
URL:https://gemeinde-bornheim.de/veranstaltung/buecher-flohmarkt-koeb-4/
LOCATION:Dorfgemeinschaftshaus\, In den Weppen 1\, Bornheim\, 76879\, Deutschland
CATEGORIES:Veranstaltung
ORGANIZER;CN="Katholische %C3%96ffentliche B%C3%BCcherei (K%C3%96B)":MAILTO:koeb.bornheim@bistum-speyer.de
END:VEVENT
BEGIN:VEVENT
DTSTART;TZID=Europe/Berlin:20260907T150000
DTEND;TZID=Europe/Berlin:20260907T233000
DTSTAMP:20260419T163843
CREATED:20250213T203104Z
LAST-MODIFIED:20250213T203104Z
UID:10000616-1788793200-1788823800@gemeinde-bornheim.de
SUMMARY:Bornheimer Kerwe
DESCRIPTION:
URL:https://gemeinde-bornheim.de/veranstaltung/bornheimer-kerwe-9/
LOCATION:Dorfgemeinschaftshaus\, In den Weppen 1\, Bornheim\, 76879\, Deutschland
CATEGORIES:Veranstaltung
ORGANIZER;CN="Ortsgemeinde Bornheim":MAILTO:rathaus@gemeinde-bornheim.de
END:VEVENT
BEGIN:VEVENT
DTSTART;TZID=Europe/Berlin:20260911T200000
DTEND;TZID=Europe/Berlin:20260911T220000
DTSTAMP:20260419T163843
CREATED:20250920T215005Z
LAST-MODIFIED:20250920T215005Z
UID:10000722-1789156800-1789164000@gemeinde-bornheim.de
SUMMARY:Chawwerusch-Theater - Der zerbrochene Krug
DESCRIPTION:
URL:https://gemeinde-bornheim.de/veranstaltung/chawwerusch-theater-der-zerbrochene-krug/
LOCATION:Dorfgemeinschaftshaus\, In den Weppen 1\, Bornheim\, 76879\, Deutschland
CATEGORIES:Veranstaltung
ORGANIZER;CN="Ortsgemeinde Bornheim":MAILTO:rathaus@gemeinde-bornheim.de
END:VEVENT
BEGIN:VEVENT
DTSTART;TZID=Europe/Berlin:20260914T190000
DTEND;TZID=Europe/Berlin:20260914T210000
DTSTAMP:20260419T163843
CREATED:20251215T100038Z
LAST-MODIFIED:20251215T100038Z
UID:10000793-1789412400-1789419600@gemeinde-bornheim.de
SUMMARY:11. Sitzung des Haupt- und Bauausschusses
DESCRIPTION:Weitere Informationen über die Sitzung\, wie z.B. die Tagesordnung\,\nfinden Sieauf der Homepage der Verbandsgemeinde Offenbach hier.
URL:https://gemeinde-bornheim.de/veranstaltung/11-sitzung-des-haupt-und-bauausschusses/
LOCATION:Rathaus – Ratssaal\, Hauptstraße 19\, Bornheim\, 76879\, Deutschland
CATEGORIES:Veranstaltung
ORGANIZER;CN="Ortsgemeinde Bornheim":MAILTO:rathaus@gemeinde-bornheim.de
END:VEVENT
BEGIN:VEVENT
DTSTART;TZID=Europe/Berlin:20260915T190000
DTEND;TZID=Europe/Berlin:20260915T210000
DTSTAMP:20260419T163843
CREATED:20251123T214958Z
LAST-MODIFIED:20251123T214958Z
UID:10000758-1789498800-1789506000@gemeinde-bornheim.de
SUMMARY:Landfrauen - Vortrag der MILAG
DESCRIPTION:
URL:https://gemeinde-bornheim.de/veranstaltung/landfrauen-vortrag-der-milag-2/
LOCATION:Dorfgemeinschaftshaus – kleiner Saal\, In den Weppen 1\, Bornheim\, 76879\, Deutschland
CATEGORIES:Veranstaltung
ORGANIZER;CN="LandFrauenVerein e.V.":MAILTO:LandfrauenBornheim@web.de
END:VEVENT
BEGIN:VEVENT
DTSTART;TZID=Europe/Berlin:20260915T190000
DTEND;TZID=Europe/Berlin:20260915T210000
DTSTAMP:20260419T163843
CREATED:20251210T232533Z
LAST-MODIFIED:20251210T232533Z
UID:10000781-1789498800-1789506000@gemeinde-bornheim.de
SUMMARY:Presbyteriumssitzung
DESCRIPTION:
URL:https://gemeinde-bornheim.de/veranstaltung/presbyteriumssitzung-13/
LOCATION:Rathaus – Bürgersaal\, Hauptstraße 19\, Bornheim\, 76879\, Deutschland
CATEGORIES:Veranstaltung
ORGANIZER;CN="Protestantische Kirchengemeinde":MAILTO:pfarramt.essingen@evkirchepfalz.de
END:VEVENT
BEGIN:VEVENT
DTSTART;TZID=Europe/Berlin:20260919T080000
DTEND;TZID=Europe/Berlin:20260919T170000
DTSTAMP:20260419T163843
CREATED:20251127T220223Z
LAST-MODIFIED:20251127T220223Z
UID:10000770-1789804800-1789837200@gemeinde-bornheim.de
SUMMARY:Diakonieverein - Frühstück
DESCRIPTION:
URL:https://gemeinde-bornheim.de/veranstaltung/diakonieverein-fruehstueck-5/
LOCATION:Dorfgemeinschaftshaus\, In den Weppen 1\, Bornheim\, 76879\, Deutschland
CATEGORIES:Veranstaltung
ORGANIZER;CN="Diakonieverein Bornheim e.V.":MAILTO:WZeidler@gmx.de
END:VEVENT
BEGIN:VEVENT
DTSTART;TZID=Europe/Berlin:20260919T140000
DTEND;TZID=Europe/Berlin:20260919T180000
DTSTAMP:20260419T163843
CREATED:20250414T212237Z
LAST-MODIFIED:20250414T212237Z
UID:10000668-1789826400-1789840800@gemeinde-bornheim.de
SUMMARY:Weinprobe an der Weinlehrzeile
DESCRIPTION:
URL:https://gemeinde-bornheim.de/veranstaltung/weinprobe-an-der-weinlehrzeile-2/
LOCATION:Weinlehrzeile am Neuberg\, Bornheim\, Rheinland-Pfalz\, 76879\, Deutschland
CATEGORIES:Veranstaltung
END:VEVENT
BEGIN:VEVENT
DTSTART;TZID=Europe/Berlin:20260922T190000
DTEND;TZID=Europe/Berlin:20260922T210000
DTSTAMP:20260419T163843
CREATED:20251123T215103Z
LAST-MODIFIED:20251123T215103Z
UID:10000759-1790103600-1790110800@gemeinde-bornheim.de
SUMMARY:Landfrauen - Flammkuchen und Neuer Wein
DESCRIPTION:
URL:https://gemeinde-bornheim.de/veranstaltung/landfrauen-flammkuchen-und-neuer-wein/
LOCATION:Dorfgemeinschaftshaus – kleiner Saal\, In den Weppen 1\, Bornheim\, 76879\, Deutschland
CATEGORIES:Veranstaltung
ORGANIZER;CN="LandFrauenVerein e.V.":MAILTO:LandfrauenBornheim@web.de
END:VEVENT
BEGIN:VEVENT
DTSTART;TZID=Europe/Berlin:20260926T093000
DTEND;TZID=Europe/Berlin:20260926T123000
DTSTAMP:20260419T163843
CREATED:20260315T204908Z
LAST-MODIFIED:20260315T204908Z
UID:10000833-1790415000-1790425800@gemeinde-bornheim.de
SUMMARY:Kinderkochen mit den Landfrauen
DESCRIPTION:
URL:https://gemeinde-bornheim.de/veranstaltung/kinderkochen-mit-den-landfrauen/
LOCATION:Dorfgemeinschaftshaus – kleiner Saal\, In den Weppen 1\, Bornheim\, 76879\, Deutschland
CATEGORIES:Veranstaltung
ORGANIZER;CN="LandFrauenVerein e.V.":MAILTO:LandfrauenBornheim@web.de
END:VEVENT
BEGIN:VEVENT
DTSTART;TZID=Europe/Berlin:20260927T080000
DTEND;TZID=Europe/Berlin:20260927T170000
DTSTAMP:20260419T163843
CREATED:20251127T220334Z
LAST-MODIFIED:20251127T220334Z
UID:10000771-1790496000-1790528400@gemeinde-bornheim.de
SUMMARY:VdK - Jahresfeier
DESCRIPTION:
URL:https://gemeinde-bornheim.de/veranstaltung/vdk-jahresfeier-2/
LOCATION:Dorfgemeinschaftshaus\, In den Weppen 1\, Bornheim\, 76879\, Deutschland
CATEGORIES:Veranstaltung
END:VEVENT
BEGIN:VEVENT
DTSTART;TZID=Europe/Berlin:20260928T190000
DTEND;TZID=Europe/Berlin:20260928T210000
DTSTAMP:20260419T163843
CREATED:20251215T100346Z
LAST-MODIFIED:20251215T100346Z
UID:10000796-1790622000-1790629200@gemeinde-bornheim.de
SUMMARY:15. Sitzung des Gemeinderats
DESCRIPTION:Weitere Informationen über die Sitzung\, wie z.B. die Tagesordnung\,\nfinden Sie auf der Homepage der Verbandsgemeinde Offenbach hier.
URL:https://gemeinde-bornheim.de/veranstaltung/15-sitzung-des-gemeinderats-2/
LOCATION:Rathaus – Ratssaal\, Hauptstraße 19\, Bornheim\, 76879\, Deutschland
CATEGORIES:Veranstaltung
ORGANIZER;CN="Ortsgemeinde Bornheim":MAILTO:rathaus@gemeinde-bornheim.de
END:VEVENT
BEGIN:VEVENT
DTSTART;TZID=Europe/Berlin:20261002T193000
DTEND;TZID=Europe/Berlin:20261002T210000
DTSTAMP:20260419T163843
CREATED:20251029T215015Z
LAST-MODIFIED:20251029T215015Z
UID:10000734-1790969400-1790974800@gemeinde-bornheim.de
SUMMARY:WeinLesen
DESCRIPTION:
URL:https://gemeinde-bornheim.de/veranstaltung/weinlesen/
LOCATION:Katholische Öffentliche Bücherei (KÖB) im DGH\, In den Weppen 1\, Bornheim\, 76879\, Deutschland
CATEGORIES:Veranstaltung
ORGANIZER;CN="Katholische %C3%96ffentliche B%C3%BCcherei (K%C3%96B)":MAILTO:koeb.bornheim@bistum-speyer.de
END:VEVENT
BEGIN:VEVENT
DTSTART;TZID=Europe/Berlin:20261010T090000
DTEND;TZID=Europe/Berlin:20261010T120000
DTSTAMP:20260419T163843
CREATED:20251127T220533Z
LAST-MODIFIED:20251127T220533Z
UID:10000772-1791622800-1791633600@gemeinde-bornheim.de
SUMMARY:Diakonieverein - Frühstück
DESCRIPTION:
URL:https://gemeinde-bornheim.de/veranstaltung/diakonieverein-fruehstueck-6/
LOCATION:Dorfgemeinschaftshaus\, In den Weppen 1\, Bornheim\, 76879\, Deutschland
CATEGORIES:Veranstaltung
ORGANIZER;CN="Diakonieverein Bornheim e.V.":MAILTO:WZeidler@gmx.de
END:VEVENT
BEGIN:VEVENT
DTSTART;TZID=Europe/Berlin:20261011T100000
DTEND;TZID=Europe/Berlin:20261011T180000
DTSTAMP:20260419T163843
CREATED:20251210T232713Z
LAST-MODIFIED:20251210T232713Z
UID:10000782-1791712800-1791741600@gemeinde-bornheim.de
SUMMARY:Erntedankfest Prot. Kirche
DESCRIPTION:
URL:https://gemeinde-bornheim.de/veranstaltung/erntedankfest-prot-kirche/
LOCATION:Dorfgemeinschaftshaus\, In den Weppen 1\, Bornheim\, 76879\, Deutschland
CATEGORIES:Veranstaltung
ORGANIZER;CN="Protestantische Kirchengemeinde":MAILTO:pfarramt.essingen@evkirchepfalz.de
END:VEVENT
BEGIN:VEVENT
DTSTART;TZID=Europe/Berlin:20261017T200000
DTEND;TZID=Europe/Berlin:20261017T233000
DTSTAMP:20260419T163844
CREATED:20250920T215304Z
LAST-MODIFIED:20250920T215304Z
UID:10000724-1792267200-1792279800@gemeinde-bornheim.de
SUMMARY:Oktoberfest der Wachthäusler
DESCRIPTION:
URL:https://gemeinde-bornheim.de/veranstaltung/oktoberfest-der-wachthaeusler-3/
LOCATION:Dorfgemeinschaftshaus\, In den Weppen 1\, Bornheim\, 76879\, Deutschland
CATEGORIES:Veranstaltung
END:VEVENT
BEGIN:VEVENT
DTSTART;TZID=Europe/Berlin:20261020T190000
DTEND;TZID=Europe/Berlin:20261020T210000
DTSTAMP:20260419T163844
CREATED:20251215T100125Z
LAST-MODIFIED:20251215T100125Z
UID:10000794-1792522800-1792530000@gemeinde-bornheim.de
SUMMARY:12. Sitzung des Haupt- und Bauausschusses
DESCRIPTION:Weitere Informationen über die Sitzung\, wie z.B. die Tagesordnung\,\nfinden Sieauf der Homepage der Verbandsgemeinde Offenbach hier.
URL:https://gemeinde-bornheim.de/veranstaltung/12-sitzung-des-haupt-und-bauausschusses-2/
LOCATION:Rathaus – Ratssaal\, Hauptstraße 19\, Bornheim\, 76879\, Deutschland
CATEGORIES:Veranstaltung
ORGANIZER;CN="Ortsgemeinde Bornheim":MAILTO:rathaus@gemeinde-bornheim.de
END:VEVENT
BEGIN:VEVENT
DTSTART;TZID=Europe/Berlin:20261024T100000
DTEND;TZID=Europe/Berlin:20261024T180000
DTSTAMP:20260419T163844
CREATED:20251127T220943Z
LAST-MODIFIED:20251127T220943Z
UID:10000773-1792836000-1792864800@gemeinde-bornheim.de
SUMMARY:Tierinsel - Basar
DESCRIPTION:
URL:https://gemeinde-bornheim.de/veranstaltung/tierinsel-basar-3/
LOCATION:Dorfgemeinschaftshaus\, In den Weppen 1\, Bornheim\, 76879\, Deutschland
CATEGORIES:Veranstaltung
ORGANIZER;CN="Tierschutzverein Die Tierinsel e.V.":MAILTO:die-tierinsel@t-online.de
END:VEVENT
BEGIN:VEVENT
DTSTART;TZID=Europe/Berlin:20261025T100000
DTEND;TZID=Europe/Berlin:20261025T180000
DTSTAMP:20260419T163844
CREATED:20251127T221041Z
LAST-MODIFIED:20251127T221041Z
UID:10000774-1792922400-1792951200@gemeinde-bornheim.de
SUMMARY:Tierinsel - Basar
DESCRIPTION:
URL:https://gemeinde-bornheim.de/veranstaltung/tierinsel-basar-4/
LOCATION:Dorfgemeinschaftshaus\, In den Weppen 1\, Bornheim\, 76879\, Deutschland
CATEGORIES:Veranstaltung
ORGANIZER;CN="Tierschutzverein Die Tierinsel e.V.":MAILTO:die-tierinsel@t-online.de
END:VEVENT
BEGIN:VEVENT
DTSTART;TZID=Europe/Berlin:20261027T190000
DTEND;TZID=Europe/Berlin:20261027T210000
DTSTAMP:20260419T163844
CREATED:20251123T215248Z
LAST-MODIFIED:20251123T215248Z
UID:10000760-1793127600-1793134800@gemeinde-bornheim.de
SUMMARY:Landfrauen - Kreativangebot "Beleuchtete Weihnachstssterne oder -bäume
DESCRIPTION:
URL:https://gemeinde-bornheim.de/veranstaltung/landfrauen-kreativangebot-beleuchtete-weihnachstssterne-oder-baeume/
LOCATION:Dorfgemeinschaftshaus – kleiner Saal\, In den Weppen 1\, Bornheim\, 76879\, Deutschland
CATEGORIES:Veranstaltung
ORGANIZER;CN="LandFrauenVerein e.V.":MAILTO:LandfrauenBornheim@web.de
END:VEVENT
BEGIN:VEVENT
DTSTART;TZID=Europe/Berlin:20261028T190000
DTEND;TZID=Europe/Berlin:20261028T210000
DTSTAMP:20260419T163844
CREATED:20251215T100922Z
LAST-MODIFIED:20251215T100922Z
UID:10000801-1793214000-1793221200@gemeinde-bornheim.de
SUMMARY:4. Sitzung des Landwirtschafts- und Umweltausschusses
DESCRIPTION:Weitere Informationen über die Sitzung\, wie z.B. die Tagesordnung\,\nfinden Sieauf der Homepage der Verbandsgemeinde Offenbach hier.
URL:https://gemeinde-bornheim.de/veranstaltung/4-sitzung-des-landwirtschafts-und-umweltausschusses/
LOCATION:Rathaus – Ratssaal\, Hauptstraße 19\, Bornheim\, 76879\, Deutschland
CATEGORIES:Veranstaltung
ORGANIZER;CN="Ortsgemeinde Bornheim":MAILTO:rathaus@gemeinde-bornheim.de
END:VEVENT
BEGIN:VEVENT
DTSTART;TZID=Europe/Berlin:20261030T190000
DTEND;TZID=Europe/Berlin:20261030T220000
DTSTAMP:20260419T163844
CREATED:20251127T221155Z
LAST-MODIFIED:20251127T221155Z
UID:10000775-1793386800-1793397600@gemeinde-bornheim.de
SUMMARY:Diakonieverein - Filmzeit
DESCRIPTION:
URL:https://gemeinde-bornheim.de/veranstaltung/diakonieverein-filmzeit/
LOCATION:Dorfgemeinschaftshaus\, In den Weppen 1\, Bornheim\, 76879\, Deutschland
CATEGORIES:Veranstaltung
ORGANIZER;CN="Diakonieverein Bornheim e.V.":MAILTO:WZeidler@gmx.de
END:VEVENT
BEGIN:VEVENT
DTSTART;TZID=Europe/Berlin:20261031T180000
DTEND;TZID=Europe/Berlin:20261031T233000
DTSTAMP:20260419T163844
CREATED:20260109T140340Z
LAST-MODIFIED:20260109T140340Z
UID:10000806-1793469600-1793489400@gemeinde-bornheim.de
SUMMARY:Privatveranstaltung
DESCRIPTION:
URL:https://gemeinde-bornheim.de/veranstaltung/privatveranstaltung-62/
LOCATION:Dorfgemeinschaftshaus\, In den Weppen 1\, Bornheim\, 76879\, Deutschland
CATEGORIES:Veranstaltung
END:VEVENT
BEGIN:VEVENT
DTSTART;VALUE=DATE:20261101
DTEND;VALUE=DATE:20261102
DTSTAMP:20260419T163844
CREATED:20221223T172905Z
LAST-MODIFIED:20221223T172905Z
UID:10000035-1793491200-1793577599@gemeinde-bornheim.de
SUMMARY:Aller­heiligen
DESCRIPTION:
URL:https://gemeinde-bornheim.de/veranstaltung/allerheiligen/2026-11-01/
CATEGORIES:Feiertage
END:VEVENT
BEGIN:VEVENT
DTSTART;TZID=Europe/Berlin:20261102T140000
DTEND;TZID=Europe/Berlin:20261102T180000
DTSTAMP:20260419T163844
CREATED:20251123T215416Z
LAST-MODIFIED:20251123T215416Z
UID:10000761-1793628000-1793642400@gemeinde-bornheim.de
SUMMARY:Landfrauen - Bewirtung der Senioren am Seniorennachmittag
DESCRIPTION:
URL:https://gemeinde-bornheim.de/veranstaltung/landfrauen-bewirtung-der-senioren-am-seniorennachmittag/
LOCATION:Dorfgemeinschaftshaus – kleiner Saal\, In den Weppen 1\, Bornheim\, 76879\, Deutschland
CATEGORIES:Veranstaltung
ORGANIZER;CN="LandFrauenVerein e.V.":MAILTO:LandfrauenBornheim@web.de
END:VEVENT
BEGIN:VEVENT
DTSTART;TZID=Europe/Berlin:20261107T200000
DTEND;TZID=Europe/Berlin:20261107T220000
DTSTAMP:20260419T163844
CREATED:20250920T215143Z
LAST-MODIFIED:20250920T215143Z
UID:10000723-1794081600-1794088800@gemeinde-bornheim.de
SUMMARY:Annette Postel - Die Postel jubiliert
DESCRIPTION:
URL:https://gemeinde-bornheim.de/veranstaltung/annette-postel-die-postel-jubiliert/
LOCATION:Dorfgemeinschaftshaus\, In den Weppen 1\, Bornheim\, 76879\, Deutschland
CATEGORIES:Veranstaltung
ORGANIZER;CN="Ortsgemeinde Bornheim":MAILTO:rathaus@gemeinde-bornheim.de
END:VEVENT
BEGIN:VEVENT
DTSTART;TZID=Europe/Berlin:20261109T190000
DTEND;TZID=Europe/Berlin:20261109T210000
DTSTAMP:20260419T163844
CREATED:20251215T100428Z
LAST-MODIFIED:20251215T100428Z
UID:10000797-1794250800-1794258000@gemeinde-bornheim.de
SUMMARY:16. Sitzung des Gemeinderats
DESCRIPTION:Weitere Informationen über die Sitzung\, wie z.B. die Tagesordnung\,\nfinden Sie auf der Homepage der Verbandsgemeinde Offenbach hier.
URL:https://gemeinde-bornheim.de/veranstaltung/16-sitzung-des-gemeinderats/
LOCATION:Rathaus – Ratssaal\, Hauptstraße 19\, Bornheim\, 76879\, Deutschland
CATEGORIES:Veranstaltung
ORGANIZER;CN="Ortsgemeinde Bornheim":MAILTO:rathaus@gemeinde-bornheim.de
END:VEVENT
BEGIN:VEVENT
DTSTART;TZID=Europe/Berlin:20261110T190000
DTEND;TZID=Europe/Berlin:20261110T210000
DTSTAMP:20260419T163844
CREATED:20251123T215555Z
LAST-MODIFIED:20251123T215555Z
UID:10000762-1794337200-1794344400@gemeinde-bornheim.de
SUMMARY:Landfrauen - Vortrag der Gemeindeschwester Plus
DESCRIPTION:
URL:https://gemeinde-bornheim.de/veranstaltung/landfrauen-vortrag-der-gemeindeschwester-plus/
LOCATION:Dorfgemeinschaftshaus – kleiner Saal\, In den Weppen 1\, Bornheim\, 76879\, Deutschland
CATEGORIES:Veranstaltung
ORGANIZER;CN="LandFrauenVerein e.V.":MAILTO:LandfrauenBornheim@web.de
END:VEVENT
BEGIN:VEVENT
DTSTART;VALUE=DATE:20261111
DTEND;VALUE=DATE:20261112
DTSTAMP:20260419T163844
CREATED:20250213T205707Z
LAST-MODIFIED:20250213T205707Z
UID:10000636-1794355200-1794441599@gemeinde-bornheim.de
SUMMARY:Martinstag
DESCRIPTION:
URL:https://gemeinde-bornheim.de/veranstaltung/martinstag/
CATEGORIES:Feiertage
END:VEVENT
END:VCALENDAR